BEGIN:VCALENDAR
VERSION:2.0
PRODID:-//PensacolaBeach.com - ECPv6.15.20//NONSGML v1.0//EN
CALSCALE:GREGORIAN
METHOD:PUBLISH
X-ORIGINAL-URL:https://pensacolabeach.com
X-WR-CALDESC:Events for PensacolaBeach.com
REFRESH-INTERVAL;VALUE=DURATION:PT1H
X-Robots-Tag:noindex
X-PUBLISHED-TTL:PT1H
BEGIN:VTIMEZONE
TZID:America/Chicago
BEGIN:DAYLIGHT
TZOFFSETFROM:-0600
TZOFFSETTO:-0500
TZNAME:CDT
DTSTART:20240310T080000
END:DAYLIGHT
BEGIN:STANDARD
TZOFFSETFROM:-0500
TZOFFSETTO:-0600
TZNAME:CST
DTSTART:20241103T070000
END:STANDARD
BEGIN:DAYLIGHT
TZOFFSETFROM:-0600
TZOFFSETTO:-0500
TZNAME:CDT
DTSTART:20250309T080000
END:DAYLIGHT
BEGIN:STANDARD
TZOFFSETFROM:-0500
TZOFFSETTO:-0600
TZNAME:CST
DTSTART:20251102T070000
END:STANDARD
BEGIN:DAYLIGHT
TZOFFSETFROM:-0600
TZOFFSETTO:-0500
TZNAME:CDT
DTSTART:20260308T080000
END:DAYLIGHT
BEGIN:STANDARD
TZOFFSETFROM:-0500
TZOFFSETTO:-0600
TZNAME:CST
DTSTART:20261101T070000
END:STANDARD
BEGIN:DAYLIGHT
TZOFFSETFROM:-0600
TZOFFSETTO:-0500
TZNAME:CDT
DTSTART:20270314T080000
END:DAYLIGHT
BEGIN:STANDARD
TZOFFSETFROM:-0500
TZOFFSETTO:-0600
TZNAME:CST
DTSTART:20271107T070000
END:STANDARD
END:VTIMEZONE
BEGIN:VEVENT
DTSTART;TZID=America/Chicago:20260221T190000
DTEND;TZID=America/Chicago:20260221T213000
DTSTAMP:20260421T014603
CREATED:20260211T213354Z
LAST-MODIFIED:20260211T213354Z
UID:10000466-1771700400-1771709400@pensacolabeach.com
SUMMARY:CWF Voltage
DESCRIPTION:The first Voltage of 2026 has arrived! Coming off a shocking ending at CWF Warfare: Battle for Glory\, what’s next for the stars of the CWF?\n\n\nThere’s a new CWF World Champion\, and his name is RONIN! With Orion’s “Vision” seemingly blinded\, what’s next for the CWF? With the kick off of the CWF World Championship #1 Contenders tourney\, will “The Fleauxhawk” cruise to the next round\, or with “The Manimal” end the Fleaux in the opening round? Who will answer the open challange of “The Southern Brute” Chris Mason for his Division 1 Championship? What’s next for Marshal Briggs\, as he continues his investigation to find his attacker? Find out all these answers AND MORE at CWF Voltage!
URL:https://pensacolabeach.com/pensacola-event/cwf-voltage/
LOCATION:Santa Rosa County Auditorium\, 4530 Spikes Way\, Milton\, FL\, 32583\, United States
ATTACH;FMTTYPE=image/jpeg:https://pensacolabeach.com/wp-content/uploads/2026/02/e3c383e403bd581737ac20a6a308a9c7.jpg
END:VEVENT
BEGIN:VEVENT
DTSTART;TZID=America/Chicago:20250517T190000
DTEND;TZID=America/Chicago:20250517T220000
DTSTAMP:20260421T014603
CREATED:20250501T003329Z
LAST-MODIFIED:20250501T003329Z
UID:10000330-1747508400-1747519200@pensacolabeach.com
SUMMARY:CWF Conspiracy
DESCRIPTION:TNA Wrestling star KC Navarro makes his CWF debut as he heads to Milton\, FL!
URL:https://pensacolabeach.com/pensacola-event/cwf-conspiracy/
LOCATION:Santa Rosa County Auditorium\, 4530 Spikes Way\, Milton\, FL\, 32583\, United States
ATTACH;FMTTYPE=image/jpeg:https://pensacolabeach.com/wp-content/uploads/2025/04/cdd1945dbcaffe5f4fd0ffcca3c83dfc.jpg
END:VEVENT
END:VCALENDAR