BEGIN:VCALENDAR
VERSION:2.0
PRODID:-//PensacolaBeach.com - ECPv6.15.20//NONSGML v1.0//EN
CALSCALE:GREGORIAN
METHOD:PUBLISH
X-WR-CALNAME:PensacolaBeach.com
X-ORIGINAL-URL:https://pensacolabeach.com
X-WR-CALDESC:Events for PensacolaBeach.com
REFRESH-INTERVAL;VALUE=DURATION:PT1H
X-Robots-Tag:noindex
X-PUBLISHED-TTL:PT1H
BEGIN:VTIMEZONE
TZID:America/Chicago
BEGIN:DAYLIGHT
TZOFFSETFROM:-0600
TZOFFSETTO:-0500
TZNAME:CDT
DTSTART:20240310T080000
END:DAYLIGHT
BEGIN:STANDARD
TZOFFSETFROM:-0500
TZOFFSETTO:-0600
TZNAME:CST
DTSTART:20241103T070000
END:STANDARD
BEGIN:DAYLIGHT
TZOFFSETFROM:-0600
TZOFFSETTO:-0500
TZNAME:CDT
DTSTART:20250309T080000
END:DAYLIGHT
BEGIN:STANDARD
TZOFFSETFROM:-0500
TZOFFSETTO:-0600
TZNAME:CST
DTSTART:20251102T070000
END:STANDARD
BEGIN:DAYLIGHT
TZOFFSETFROM:-0600
TZOFFSETTO:-0500
TZNAME:CDT
DTSTART:20260308T080000
END:DAYLIGHT
BEGIN:STANDARD
TZOFFSETFROM:-0500
TZOFFSETTO:-0600
TZNAME:CST
DTSTART:20261101T070000
END:STANDARD
BEGIN:DAYLIGHT
TZOFFSETFROM:-0600
TZOFFSETTO:-0500
TZNAME:CDT
DTSTART:20270314T080000
END:DAYLIGHT
BEGIN:STANDARD
TZOFFSETFROM:-0500
TZOFFSETTO:-0600
TZNAME:CST
DTSTART:20271107T070000
END:STANDARD
END:VTIMEZONE
BEGIN:VEVENT
DTSTART;TZID=America/Chicago:20260416T164500
DTEND;TZID=America/Chicago:20260416T193000
DTSTAMP:20260420T200901
CREATED:20260316T141223Z
LAST-MODIFIED:20260316T141342Z
UID:10000503-1776357900-1776367800@pensacolabeach.com
SUMMARY:EPA's VOICES OF THE VILLAGE "Left Turn\, No Signal"
DESCRIPTION:Join EPA’s Voices of the Village for powerful stories about life’s unexpected turns.\n\n\nLeft Turn\, No Signal \nThat “left turn\, no signal” feeling is so real. One minute you’re cruising along\, music on\, windows down\, singing loudly – and the next\, you’re slamming on the brakes wondering what just happened. Life is that way – we are going along and everything seems okay when a left turn happens! In the moment\, the feeling is jarring and might seem unfair. Sometimes the feeling is deeply painful. Things just seem to happen that cause us to feel loss and unsure. \nTruth is\, we want to have “the signal” so we can prepare for the next turn. We don’t like to have things occur for which we are totally unprepared. \nWe’ve all had those “no signal” moments when plans have unraveled and doors are shut unexpectedly. \nWe would love to hear your story. What was your “left turn\, no signal” moment – and what did it teach you? If you would like to share\, just complete the attached application.
URL:https://pensacolabeach.com/pensacola-event/epas-voices-of-the-village-left-turn-no-signal/
LOCATION:Private: Gateway Church of Christ\, 445 Creighton Road\, Pensacola\, FL\, 32504\, United States
ATTACH;FMTTYPE=image/jpeg:https://pensacolabeach.com/wp-content/uploads/2026/03/e5e5d93dff3897a9186e5cb32e75ca18.jpg
END:VEVENT
BEGIN:VEVENT
DTSTART;TZID=America/Chicago:20251016T164500
DTEND;TZID=America/Chicago:20251016T193000
DTSTAMP:20260420T200901
CREATED:20251001T162030Z
LAST-MODIFIED:20251001T162030Z
UID:10000444-1760633100-1760643000@pensacolabeach.com
SUMMARY:EPA's VOICES OF THE VILLAGE I Had No Idea! Stories of Surprising Discovery
DESCRIPTION:Join us at EPA’s VOICES OF THE VILLAGE for eye-opening stories that will leave you saying\, “I Had No Idea!”\n\n\nHave you ever walked into a situation thinking you had it all figured out—only to be completely surprised by what you learned? Have you ever met someone and assumed you knew who they were\, only to find out they were nothing like you expected? \nPerhaps you’ve uncovered a hidden talent within yourself or learned something unexpected about your family\, community\, or workplace. Maybe someone surprised you with an act of kindness\, resilience\, or strength that changed your perspective forever. \nThese are the moments that leave us shaking our heads and saying\, \n“I had no idea!” Life is full of surprises—and stories worth sharing. Whether funny\, heartfelt\, inspiring\, or transformative—we want to hear it.
URL:https://pensacolabeach.com/pensacola-event/epas-voices-of-the-village-i-had-no-idea-stories-of-surprising-discovery/
LOCATION:Voices of Pensacola Multicultural Center\, 117 East Government Street\, Pensacola\, FL\, 32502\, United States
ATTACH;FMTTYPE=image/jpeg:https://pensacolabeach.com/wp-content/uploads/2025/10/caf0ccd5ddbd30c874ff4361f9be2f29.jpg
END:VEVENT
END:VCALENDAR