BEGIN:VCALENDAR
VERSION:2.0
PRODID:-//PensacolaBeach.com - ECPv6.15.20//NONSGML v1.0//EN
CALSCALE:GREGORIAN
METHOD:PUBLISH
X-WR-CALNAME:PensacolaBeach.com
X-ORIGINAL-URL:https://pensacolabeach.com
X-WR-CALDESC:Events for PensacolaBeach.com
REFRESH-INTERVAL;VALUE=DURATION:PT1H
X-Robots-Tag:noindex
X-PUBLISHED-TTL:PT1H
BEGIN:VTIMEZONE
TZID:America/New_York
BEGIN:DAYLIGHT
TZOFFSETFROM:-0500
TZOFFSETTO:-0400
TZNAME:EDT
DTSTART:20230312T070000
END:DAYLIGHT
BEGIN:STANDARD
TZOFFSETFROM:-0400
TZOFFSETTO:-0500
TZNAME:EST
DTSTART:20231105T060000
END:STANDARD
BEGIN:DAYLIGHT
TZOFFSETFROM:-0500
TZOFFSETTO:-0400
TZNAME:EDT
DTSTART:20240310T070000
END:DAYLIGHT
BEGIN:STANDARD
TZOFFSETFROM:-0400
TZOFFSETTO:-0500
TZNAME:EST
DTSTART:20241103T060000
END:STANDARD
BEGIN:DAYLIGHT
TZOFFSETFROM:-0500
TZOFFSETTO:-0400
TZNAME:EDT
DTSTART:20250309T070000
END:DAYLIGHT
BEGIN:STANDARD
TZOFFSETFROM:-0400
TZOFFSETTO:-0500
TZNAME:EST
DTSTART:20251102T060000
END:STANDARD
END:VTIMEZONE
BEGIN:VEVENT
DTSTART;TZID=America/New_York:20241021T200000
DTEND;TZID=America/New_York:20241021T210000
DTSTAMP:20260422T094057
CREATED:20241021T200530Z
LAST-MODIFIED:20241021T200530Z
UID:10000146-1729540800-1729544400@pensacolabeach.com
SUMMARY:Unwind and Restore: 45-Minute Yin Yoga for Better Sleep
DESCRIPTION:Join us for a relaxing 45-minute Yin Yoga session to unwind and restore for a better night’s sleep!\n\n\nEnd your day with a calming 45-minute Yin Yoga session designed to release tension and stress\, helping you achieve a peaceful\, restorative sleep. This class focuses on deep stretches and mindful breathing to gently ease your body into relaxation. Using props like a blanket\, bolster\, blocks\, and a night eye band\, you’ll create the perfect environment for a restful night’s sleep. Suitable for all levels\, this session will leave you feeling refreshed and ready to rejuvenate. Join us for the ultimate evening wind-down!
URL:https://pensacolabeach.com/pensacola-event/unwind-and-restore-45-minute-yin-yoga-for-better-sleep/
ATTACH;FMTTYPE=image/jpeg:https://pensacolabeach.com/wp-content/uploads/2024/10/15b1190f386d975176c4140d1c8a91b7.jpg
END:VEVENT
END:VCALENDAR