BEGIN:VCALENDAR
VERSION:2.0
PRODID:-//PensacolaBeach.com - ECPv6.15.20//NONSGML v1.0//EN
CALSCALE:GREGORIAN
METHOD:PUBLISH
X-WR-CALNAME:PensacolaBeach.com
X-ORIGINAL-URL:https://pensacolabeach.com
X-WR-CALDESC:Events for PensacolaBeach.com
REFRESH-INTERVAL;VALUE=DURATION:PT1H
X-Robots-Tag:noindex
X-PUBLISHED-TTL:PT1H
BEGIN:VTIMEZONE
TZID:America/Chicago
BEGIN:DAYLIGHT
TZOFFSETFROM:-0600
TZOFFSETTO:-0500
TZNAME:CDT
DTSTART:20230312T080000
END:DAYLIGHT
BEGIN:STANDARD
TZOFFSETFROM:-0500
TZOFFSETTO:-0600
TZNAME:CST
DTSTART:20231105T070000
END:STANDARD
BEGIN:DAYLIGHT
TZOFFSETFROM:-0600
TZOFFSETTO:-0500
TZNAME:CDT
DTSTART:20240310T080000
END:DAYLIGHT
BEGIN:STANDARD
TZOFFSETFROM:-0500
TZOFFSETTO:-0600
TZNAME:CST
DTSTART:20241103T070000
END:STANDARD
BEGIN:DAYLIGHT
TZOFFSETFROM:-0600
TZOFFSETTO:-0500
TZNAME:CDT
DTSTART:20250309T080000
END:DAYLIGHT
BEGIN:STANDARD
TZOFFSETFROM:-0500
TZOFFSETTO:-0600
TZNAME:CST
DTSTART:20251102T070000
END:STANDARD
BEGIN:DAYLIGHT
TZOFFSETFROM:-0600
TZOFFSETTO:-0500
TZNAME:CDT
DTSTART:20260308T080000
END:DAYLIGHT
BEGIN:STANDARD
TZOFFSETFROM:-0500
TZOFFSETTO:-0600
TZNAME:CST
DTSTART:20261101T070000
END:STANDARD
END:VTIMEZONE
BEGIN:VEVENT
DTSTART;TZID=America/Chicago:20251011T173000
DTEND;TZID=America/Chicago:20251011T210000
DTSTAMP:20260420T084644
CREATED:20251001T160508Z
LAST-MODIFIED:20251001T160508Z
UID:10000423-1760203800-1760216400@pensacolabeach.com
SUMMARY:The Visionarie's 20th Anniversary Celebration (Pre-Sale) Online only
DESCRIPTION:Come experience the celebration of the legendary Gospel Quartet Group\, the Visionaire’s\, as they celebrate 20 years of singing for the Lord.
URL:https://pensacolabeach.com/pensacola-event/the-visionaries-20th-anniversary-celebration-pre-sale-online-only/
LOCATION:Deliverance Tabernacle Christian Center\, 1780 West Detroit Boulevard\, Pensacola\, FL\, 32534\, United States
ATTACH;FMTTYPE=image/jpeg:https://pensacolabeach.com/wp-content/uploads/2025/10/1e241f06e13d60bdbe76da75c2e709ef.jpg
END:VEVENT
BEGIN:VEVENT
DTSTART;TZID=America/Chicago:20250207T190000
DTEND;TZID=America/Chicago:20250207T220000
DTSTAMP:20260420T084644
CREATED:20250203T202434Z
LAST-MODIFIED:20250203T202434Z
UID:10000274-1738954800-1738965600@pensacolabeach.com
SUMMARY:Twisted Murder Mystery Dinner Theatre
DESCRIPTION:Join us for a night of thrilling suspense and delicious food at Twisted Murder Mystery Dinner Theatre – where everyone is a suspect.\n\n\nWelcome to the Twisted Murder Mystery Dinner Theatre! \nWritten From The Mind Of Elrico Tunstall Come join us for a night of mystery\, intrigue\, and delicious food at 2148 Delano St. Get ready to put your detective skills to the test as you try to solve a thrilling murder case while enjoying a scrumptious dinner. Our talented actors will keep you entertained throughout the evening\, guaranteeing a memorable experience for all attendees. Don’t miss out on this unique event that combines dining with drama. Purchase your tickets now and prepare for a night full of twists and turns!
URL:https://pensacolabeach.com/pensacola-event/twisted-murder-mystery-dinner-theatre/
LOCATION:2148 Delano St\, 2148 Delano Street\, Pensacola\, FL\, 32505\, United States
ATTACH;FMTTYPE=image/jpeg:https://pensacolabeach.com/wp-content/uploads/2025/02/1a094454a2f9085d49bb64d2aa166a84.jpg
END:VEVENT
BEGIN:VEVENT
DTSTART;TZID=America/Chicago:20241208T163000
DTEND;TZID=America/Chicago:20241208T210000
DTSTAMP:20260420T084644
CREATED:20241101T000631Z
LAST-MODIFIED:20241101T000631Z
UID:10000160-1733675400-1733691600@pensacolabeach.com
SUMMARY:Southern Village Red Carpet Movie Premiere
DESCRIPTION:Get ready to strut your stuff on the red carpet at the Southern Village Movie Premiere – it’s gonna be a night to remember!\n\n\nWelcome to the Southern Village Red Carpet Movie Premiere! Join us for a glamorous evening at the Pensacola Interstate Fair for an exclusive movie screening. Get ready to walk the red carpet\, mingle with celebrities\, and enjoy a night of entertainment. Dress to impress and be part of this exciting event. Don’t miss out on this unforgettable experience from The Mind Of Elrico Tunstall Studios\, with his third full-length feature film produced on the Gulf Coast.
URL:https://pensacolabeach.com/pensacola-event/southern-village-red-carpet-movie-premiere/
LOCATION:Pensacola Interstate Fair\, 6655 Mobile Highway\, Pensacola\, FL\, 32526\, United States
ATTACH;FMTTYPE=image/jpeg:https://pensacolabeach.com/wp-content/uploads/2024/10/c8512f50f4b25680353f3871d8a40e4a.jpg
END:VEVENT
END:VCALENDAR