BEGIN:VCALENDAR
VERSION:2.0
PRODID:-//PensacolaBeach.com - ECPv6.15.20//NONSGML v1.0//EN
CALSCALE:GREGORIAN
METHOD:PUBLISH
X-ORIGINAL-URL:https://pensacolabeach.com
X-WR-CALDESC:Events for PensacolaBeach.com
REFRESH-INTERVAL;VALUE=DURATION:PT1H
X-Robots-Tag:noindex
X-PUBLISHED-TTL:PT1H
BEGIN:VTIMEZONE
TZID:America/Chicago
BEGIN:DAYLIGHT
TZOFFSETFROM:-0600
TZOFFSETTO:-0500
TZNAME:CDT
DTSTART:20250309T080000
END:DAYLIGHT
BEGIN:STANDARD
TZOFFSETFROM:-0500
TZOFFSETTO:-0600
TZNAME:CST
DTSTART:20251102T070000
END:STANDARD
BEGIN:DAYLIGHT
TZOFFSETFROM:-0600
TZOFFSETTO:-0500
TZNAME:CDT
DTSTART:20260308T080000
END:DAYLIGHT
BEGIN:STANDARD
TZOFFSETFROM:-0500
TZOFFSETTO:-0600
TZNAME:CST
DTSTART:20261101T070000
END:STANDARD
BEGIN:DAYLIGHT
TZOFFSETFROM:-0600
TZOFFSETTO:-0500
TZNAME:CDT
DTSTART:20270314T080000
END:DAYLIGHT
BEGIN:STANDARD
TZOFFSETFROM:-0500
TZOFFSETTO:-0600
TZNAME:CST
DTSTART:20271107T070000
END:STANDARD
END:VTIMEZONE
BEGIN:VEVENT
DTSTART;TZID=America/Chicago:20260516T100000
DTEND;TZID=America/Chicago:20260516T200000
DTSTAMP:20260420T145134
CREATED:20260211T214214Z
LAST-MODIFIED:20260316T142228Z
UID:10000497-1778925600-1778961600@pensacolabeach.com
SUMMARY:Pensacola Pickles & Wings Family Festival 2026
DESCRIPTION:Wings\, pickles\, food trucks\, live music & family fun at historic Seville Square in downtown Pensacola. Free admission. All ages welcome!\n\n\n🥒🍗 Pensacola Pickles and Wings Family Festival 🎉🎵 \nExperience a full day of flavor\, fun\, and downtown energy at the Pensacola Pickles and Wings Family Festival\, a brand-new\, family-friendly event happening in the heart of Pensacola. \n🥒 Meet the legendary Pickle Priest\, spreading big dill energy and unforgettable festival vibes all day \nJoin us Saturday\, May 16\, 2026\, from 10 AM to 8 PM at historic Seville Square\, shaded by iconic oak trees and filled with food\, music\, contests\, and activities for all ages. \n👉 http://www.pensacolafest.com \n✨ Festival Highlights \n🥒 Pickle ParadiseEnjoy pickled everything\, from classic favorites to creative surprises\, including fried pickles\, pickle-brined dishes\, pickle-inspired treats\, and bold briny flavors. \n🍗 Wings for DaysA wide variety of wing styles and heat levels\, from mild to make you sweat\, featuring classic\, smoked\, grilled\, sauced\, dry rubbed\, and pickle-brined wings. \n🚚 Food Truck AlleyA diverse lineup of food trucks serving savory and sweet options\, comfort food\, fresh flavors\, and cold drinks. \n🎪 Vendor Marketplace \nShop\, taste\, and explore a wide variety of local vendors offering food\, crafts\, merchandise\, and specialty items \n🎵 Live Entertainment All DayLocal and regional performers take the stage with music\, dance\, spoken word\, and high-energy performances throughout the day. \n🔥Ride the Mechanical Pickle \nThink you can stay on\, hop aboard our Pickle Ride and test your balance and bravery. Riders take on the spinning\, bucking pickle in a hilarious crowd favorite that keeps everyone cheering \n🎈 Kids Zone and Carnival Style GamesFamily-friendly activities\, games\, and entertainment designed for younger festival guests. \n🏆 Pickle Eating ContestA fast-paced\, crowd-pleasing competition where brave participants compete for bragging rights and championship glory. \n👗 Costume ContestsPickle and wing-themed costume contests for adults and children\, with creativity\, fun\, and cash prizes for adult winners. \n👉 http://www.pensacolafest.com \n🤝 Get InvolvedFood trucks\, vendors\, entertainers\, and carnival-style attractions are now being accepted. Applications and event details are available online. \n📅 DateSaturday\, May 16\, 2026 \n⏰ Time10 AM to 8 PM \n📍 LocationSeville Square311 E Government St\, Pensacola\, FL \n🎟️ AdmissionFree \n🌐 Website and Applications👉 http://www.pensacolafest.com \n📞 Phone: (850) 941-4321📘 Facebook: \nhttps://www.facebook.com/PensacolaPicklesandWingsFamilyFestival \nFind us online at : \nhttp://www.pensacolafest.com \nhttp://www.pensacolapicklefestival.com \nhttp://www.gulfcoastpicklefestival.com \nhttp://www.emeraldcoastpicklefestival.com
URL:https://pensacolabeach.com/pensacola-event/pensacola-pickles-wings-family-festival-2026/
LOCATION:Seville Square\, 311 East Government Street\, Pensacola\, FL\, 32502\, United States
ATTACH;FMTTYPE=image/jpeg:https://pensacolabeach.com/wp-content/uploads/2026/02/67d50df60ddbbfd251ff9264c1e11a30.jpg
END:VEVENT
BEGIN:VEVENT
DTSTART;TZID=America/Chicago:20260516T100000
DTEND;TZID=America/Chicago:20260516T200000
DTSTAMP:20260420T145134
CREATED:20260408T193752Z
LAST-MODIFIED:20260408T193752Z
UID:10000527-1778925600-1778961600@pensacolabeach.com
SUMMARY:Meet the Pickle Priest at  Pensacola Pickles & Wings Family Festival 2026
DESCRIPTION:Meet the legendary Pickle Priest\, spreading big dill energy and unforgettable festival vibes all day\n\n\n🥒🍗 Pensacola Pickles and Wings Family Festival 🎉👉 https://www.pensacolafest.com \nGet ready to relish the fun and wing it with us at the inaugural Pensacola Pickles and Wings Family Festival\, a FREE admission\, family-friendly celebration packed with flavor\, fun\, and local flair. \n✨ BIG DILL HIGHLIGHTS ✨ \n🥒 Meet the legendary Pickle Priest\, spreading big dill energy and unforgettable festival vibes all day (Fees vary) \n🥒🐎 RIDE THE MECHANICAL PICKLEYes\, you read that right\, climb on and hold on\, this crowd favorite is bringing nonstop laughs\, epic photos\, and serious bragging rights \n👗🥒 PICKLE AND WING THEMED COSTUME CONTESTDress brined to impress\, go full pickle\, full wing\, or full creative chaos\, compete for prizes\, glory\, and ultimate big dill status \n🦖 Special appearance by Parker and Rex\, the official brand ambassador dinosaurs of Pensacola Parks and Recreation\, bringing prehistoric fun to Seville Square \n✨ What Else to Expect ✨ \n🥒 Pickle everything\, classic\, fried\, brined\, and creative pickle-inspired bites🍗 Wings for days\, mild\, spicy\, sauced\, dry rubbed\, and pickle brined🎶 Live entertainment from talented local performers🛍️ Vendor marketplace featuring local makers and small businesses🎡 Kids Zone with carnival-style games and family fun🏆 Pickle eating contest and crowd favorite competitions📸 Photo ops and interactive experiences \n💚 A portion of proceeds benefits Ronald McDonald House Charities of Northwest Florida \n📅 Saturday\, May 16\, 2026⏰ 10 AM to 8 PM📍 Seville Square\, Pensacola\, Florida🎟️ FREE admission \n📞 850 941 4321 \n👉 Vendors\, sponsors\, entertainers\, and guests\, get all the details at🌐 https://www.pensacolafest.com \nGrab your crew\, come hungry\, dress up\, ride the pickle\, and get yourself into a good one 🥒🍗 \n#PensacolaPicklesAndWings #BigDillEnergy #MechanicalPickle #CostumeContest #WingItPensacola #PensacolaEvents #FamilyFunPensacola #SevilleSquare #PensacolaFest \n📘 Facebook: \nhttps://www.facebook.com/PensacolaPicklesandWingsFamilyFestival \nFind us online at : \nhttp://www.pensacolafest.com \nhttp://www.pensacolapicklefestival.com \nhttp://www.gulfcoastpicklefestival.com \nhttp://www.emeraldcoastpicklefestival.com
URL:https://pensacolabeach.com/pensacola-event/meet-the-pickle-priest-at-pensacola-pickles-wings-family-festival-2026/
LOCATION:Seville Square\, 311 East Government Street\, Pensacola\, FL\, 32502\, United States
ATTACH;FMTTYPE=image/jpeg:https://pensacolabeach.com/wp-content/uploads/2026/04/30bf7d99443136736a4473a5174df27b.jpg
END:VEVENT
END:VCALENDAR