BEGIN:VCALENDAR
VERSION:2.0
PRODID:-//PensacolaBeach.com - ECPv6.15.20//NONSGML v1.0//EN
CALSCALE:GREGORIAN
METHOD:PUBLISH
X-WR-CALNAME:PensacolaBeach.com
X-ORIGINAL-URL:https://pensacolabeach.com
X-WR-CALDESC:Events for PensacolaBeach.com
REFRESH-INTERVAL;VALUE=DURATION:PT1H
X-Robots-Tag:noindex
X-PUBLISHED-TTL:PT1H
BEGIN:VTIMEZONE
TZID:America/Chicago
BEGIN:DAYLIGHT
TZOFFSETFROM:-0600
TZOFFSETTO:-0500
TZNAME:CDT
DTSTART:20240310T080000
END:DAYLIGHT
BEGIN:STANDARD
TZOFFSETFROM:-0500
TZOFFSETTO:-0600
TZNAME:CST
DTSTART:20241103T070000
END:STANDARD
BEGIN:DAYLIGHT
TZOFFSETFROM:-0600
TZOFFSETTO:-0500
TZNAME:CDT
DTSTART:20250309T080000
END:DAYLIGHT
BEGIN:STANDARD
TZOFFSETFROM:-0500
TZOFFSETTO:-0600
TZNAME:CST
DTSTART:20251102T070000
END:STANDARD
BEGIN:DAYLIGHT
TZOFFSETFROM:-0600
TZOFFSETTO:-0500
TZNAME:CDT
DTSTART:20260308T080000
END:DAYLIGHT
BEGIN:STANDARD
TZOFFSETFROM:-0500
TZOFFSETTO:-0600
TZNAME:CST
DTSTART:20261101T070000
END:STANDARD
END:VTIMEZONE
BEGIN:VEVENT
DTSTART;TZID=America/Chicago:20251101T190000
DTEND;TZID=America/Chicago:20251101T233000
DTSTAMP:20260423T061325
CREATED:20251001T160808Z
LAST-MODIFIED:20251001T160808Z
UID:10000427-1762023600-1762039800@pensacolabeach.com
SUMMARY:The Vampires vs Zombies Experience in Pensacola
DESCRIPTION:The streets of Pensacola are being transformed into a battleground for creatures in this immersive outdoor escape room-style experience.\n\n\nGo at your own pace or compete against thousands of other vampires and zombies crawling the streets. \nYou will follow clues\, complete fun challenges and solve interactive puzzles in the city. \nChoose your side and try to defeat the other in a battle for survival! \nWho will bite first? \n\n\n\n🌟 HOW TO ATTEND\n1️⃣ DOWNLOAD THE APP📲 Make sure you have the Questo app on your smartphone before the event (it’s free!).👉 Download it here \n2️⃣ GO TO THE STARTING LOCATION📍 When it’s time\, use the Questo app to get to the starting point and follow the instructions to reach each place. \n⏰ The game will unlock at 7 PM.🚶‍♀️ Starting point: Will be received 2 weeks prior to the event \n🌍 More about Questo\nQuesto is a platform for real-world city exploration games 🗺️\, created by professional writers ✍️\, published authors 📖\, game designers 🎮\, and storytellers 🌟 from around the world.
URL:https://pensacolabeach.com/pensacola-event/the-vampires-vs-zombies-experience-in-pensacola/
LOCATION:Pensacola\, Pensacola\, Pensacola\, FL\, United States
ATTACH;FMTTYPE=image/jpeg:https://pensacolabeach.com/wp-content/uploads/2025/10/7a6fe066a1abf59f92c369ca12f46768.jpg
END:VEVENT
BEGIN:VEVENT
DTSTART;TZID=America/Chicago:20251003T190000
DTEND;TZID=America/Chicago:20251003T203000
DTSTAMP:20260423T061325
CREATED:20251001T160914Z
LAST-MODIFIED:20251001T160914Z
UID:10000443-1759518000-1759523400@pensacolabeach.com
SUMMARY:Pensacola Conspiracy Game: The Outdoor Escape
DESCRIPTION:Perfect activity for fans of escape games\, scavenger hunts\, murder mysteries\, and anyone who loves walking and solving puzzles IN REAL LIFE.
URL:https://pensacolabeach.com/pensacola-event/pensacola-conspiracy-game-the-outdoor-escape-15/
LOCATION:320 S Jefferson St\, 320 South Jefferson Street\, Pensacola\, FL\, 32502\, United States
ATTACH;FMTTYPE=image/jpeg:https://pensacolabeach.com/wp-content/uploads/2025/10/5f65f039cc51295f698c9115101c9ca4.jpg
END:VEVENT
BEGIN:VEVENT
DTSTART;TZID=America/Chicago:20251002T150000
DTEND;TZID=America/Chicago:20251002T163000
DTSTAMP:20260423T061325
CREATED:20251001T160912Z
LAST-MODIFIED:20251001T160912Z
UID:10000434-1759417200-1759422600@pensacolabeach.com
SUMMARY:Pensacola Conspiracy Game: The Outdoor Escape
DESCRIPTION:Perfect activity for fans of escape games\, scavenger hunts\, murder mysteries\, and anyone who loves walking and solving puzzles IN REAL LIFE.
URL:https://pensacolabeach.com/pensacola-event/pensacola-conspiracy-game-the-outdoor-escape-6/
LOCATION:320 S Jefferson St\, 320 South Jefferson Street\, Pensacola\, FL\, 32502\, United States
ATTACH;FMTTYPE=image/jpeg:https://pensacolabeach.com/wp-content/uploads/2025/10/5f65f039cc51295f698c9115101c9ca4.jpg
END:VEVENT
BEGIN:VEVENT
DTSTART;TZID=America/Chicago:20251001T150000
DTEND;TZID=America/Chicago:20251001T163000
DTSTAMP:20260423T061325
CREATED:20251001T160908Z
LAST-MODIFIED:20251001T160908Z
UID:10000429-1759330800-1759336200@pensacolabeach.com
SUMMARY:Pensacola Conspiracy Game: The Outdoor Escape
DESCRIPTION:Perfect activity for fans of escape games\, scavenger hunts\, murder mysteries\, and anyone who loves walking and solving puzzles IN REAL LIFE.
URL:https://pensacolabeach.com/pensacola-event/pensacola-conspiracy-game-the-outdoor-escape/
LOCATION:320 S Jefferson St\, 320 South Jefferson Street\, Pensacola\, FL\, 32502\, United States
ATTACH;FMTTYPE=image/jpeg:https://pensacolabeach.com/wp-content/uploads/2025/10/5f65f039cc51295f698c9115101c9ca4.jpg
END:VEVENT
BEGIN:VEVENT
DTSTART;TZID=America/Chicago:20250308T100000
DTEND;TZID=America/Chicago:20250308T173000
DTSTAMP:20260423T061325
CREATED:20250102T234119Z
LAST-MODIFIED:20250102T234119Z
UID:10000196-1741428000-1741455000@pensacolabeach.com
SUMMARY:The PAN Escape in Pensacola
DESCRIPTION:The magical world of Oz arrives to the streets of your city in the form of an outdoor escape game style experience.\n\n\nYOU WILL RECEIVE THE LOCATION TWO WEEKS PRIOR TO THE EVENT. \nYou will use your phone to follow hidden clues\, solve witty puzzles and complete fun challenges as you walk around the city. \nFollow the story of Pan and his friends while navigating the magical land and confronting the pirates! \nThe event is entirely based on the classic ‘Peter Pan or the Boy Who Wouldn’t Grow Up’ by J.M. Barrie. \nYou can play at your own pace or against the clock to compete with friends or hundreds of other teams parading their fantastic costumes (wearing costumes is optional at the event). \n— TICKETOne ticket allows up to 6 participants— TIMEstart anytime between 10 AM – 4 PM\, the experience lasts approx. 90 minutes \n— LOCATION:YOU WILL RECEIVE THE LOCATION TWO WEEKS PRIOR TO THE EVENT.OUTDOORS\, ON THE STREETS OF YOUR CITYNo need to enter locations \n— COSTUME CONTEST:optional\, for people who wear them \n— GAMEthroughout the event\, you will be guided solely by our immersive mobile app \n— AGE: recommended for ages 8+ \n— PET FRIENDLY: yes! \n— PACE: go at your own pace or compete against the clock.
URL:https://pensacolabeach.com/pensacola-event/the-pan-escape-in-pensacola/
LOCATION:Pensacola\, Pensacola\, Pensacola\, FL\, United States
ATTACH;FMTTYPE=image/jpeg:https://pensacolabeach.com/wp-content/uploads/2025/01/10bcdfc6c9247c0d43be3fda8f89b950.jpg
END:VEVENT
END:VCALENDAR