BEGIN:VCALENDAR
VERSION:2.0
PRODID:-//PensacolaBeach.com - ECPv6.15.20//NONSGML v1.0//EN
CALSCALE:GREGORIAN
METHOD:PUBLISH
X-ORIGINAL-URL:https://pensacolabeach.com
X-WR-CALDESC:Events for PensacolaBeach.com
REFRESH-INTERVAL;VALUE=DURATION:PT1H
X-Robots-Tag:noindex
X-PUBLISHED-TTL:PT1H
BEGIN:VTIMEZONE
TZID:America/Chicago
BEGIN:DAYLIGHT
TZOFFSETFROM:-0600
TZOFFSETTO:-0500
TZNAME:CDT
DTSTART:20240310T080000
END:DAYLIGHT
BEGIN:STANDARD
TZOFFSETFROM:-0500
TZOFFSETTO:-0600
TZNAME:CST
DTSTART:20241103T070000
END:STANDARD
BEGIN:DAYLIGHT
TZOFFSETFROM:-0600
TZOFFSETTO:-0500
TZNAME:CDT
DTSTART:20250309T080000
END:DAYLIGHT
BEGIN:STANDARD
TZOFFSETFROM:-0500
TZOFFSETTO:-0600
TZNAME:CST
DTSTART:20251102T070000
END:STANDARD
BEGIN:DAYLIGHT
TZOFFSETFROM:-0600
TZOFFSETTO:-0500
TZNAME:CDT
DTSTART:20260308T080000
END:DAYLIGHT
BEGIN:STANDARD
TZOFFSETFROM:-0500
TZOFFSETTO:-0600
TZNAME:CST
DTSTART:20261101T070000
END:STANDARD
END:VTIMEZONE
BEGIN:VEVENT
DTSTART;TZID=America/Chicago:20250712T140000
DTEND;TZID=America/Chicago:20250712T200000
DTSTAMP:20260421T045244
CREATED:20250528T235632Z
LAST-MODIFIED:20250528T235635Z
UID:10000349-1752328800-1752350400@pensacolabeach.com
SUMMARY:Vegan BrewFest Pensacola
DESCRIPTION:Bigger\, better Vegan BrewFest Pensacola 2025! July 12th @ Perfect Plain BrewFest: epic vegan food\, live music\, craft brews & fun! ️\n\n\nBigger\, Better\, BrewFest: Vegan BrewFest Pensacola 2025! 🌱🍻🎶 \nGet ready\, Pensacola — the Vegan BrewFest experience is coming your way! We’re turning up the heat this summer with an even bigger celebration of plant-based living\, better vibes\, and the best brewfest energy around. \n🌟 What to Expect:\n Incredible Vegan EatsFrom savory soul food to creative street fare and sweet treats\, enjoy a curated lineup of plant-based vendors bringing the flavor. \nLive Music & EntertainmentVibe out to a full day of local talent with performances that’ll keep the energy flowing and the dance floor moving. \n Craft Brews by Perfect PlainWhat pairs better with amazing vegan food than top-tier local beer? Perfect Plain will be pouring all day long. \nHigh-Vibe AtmosphereCelebrate community\, culture\, and compassion in one of Pensacola’s most loved hangout spots. Whether you’re vegan or veg-curious\, you’ll feel right at home. \n Good TimesCome ready for fun! We’ll have interactive competitions and chill spaces to hang out between bites and beats. \n🛍️ Want to Be a Vendor?\nAre you a vegan-friendly food vendor\, maker\, or small business?We’d love to have you join us for this epic summer event!👉 Apply now to become a vendor and share your offerings with our amazing community.www.thepoppinvegan.com or send email thepoppinvegan@gmail.com \n🎟️ Tickets Available Now!Let’s make Vegan BrewFest Pensacola the plant-based party of the summer. Grab your tickets and join us for an unforgettable day of food\, brews\, music\, and community!
URL:https://pensacolabeach.com/pensacola-event/vegan-brewfest-pensacola/
LOCATION:Perfect Plain Brewing Co.\, 50 East Garden Street\, Pensacola\, FL\, 32502\, United States
ATTACH;FMTTYPE=image/jpeg:https://pensacolabeach.com/wp-content/uploads/2025/05/b1c8eae76493763f7197774bb4c2a054.jpg
END:VEVENT
END:VCALENDAR