BEGIN:VCALENDAR
VERSION:2.0
PRODID:-//PensacolaBeach.com - ECPv6.15.20//NONSGML v1.0//EN
CALSCALE:GREGORIAN
METHOD:PUBLISH
X-WR-CALNAME:PensacolaBeach.com
X-ORIGINAL-URL:https://pensacolabeach.com
X-WR-CALDESC:Events for PensacolaBeach.com
REFRESH-INTERVAL;VALUE=DURATION:PT1H
X-Robots-Tag:noindex
X-PUBLISHED-TTL:PT1H
BEGIN:VTIMEZONE
TZID:America/Chicago
BEGIN:DAYLIGHT
TZOFFSETFROM:-0600
TZOFFSETTO:-0500
TZNAME:CDT
DTSTART:20250309T080000
END:DAYLIGHT
BEGIN:STANDARD
TZOFFSETFROM:-0500
TZOFFSETTO:-0600
TZNAME:CST
DTSTART:20251102T070000
END:STANDARD
BEGIN:DAYLIGHT
TZOFFSETFROM:-0600
TZOFFSETTO:-0500
TZNAME:CDT
DTSTART:20260308T080000
END:DAYLIGHT
BEGIN:STANDARD
TZOFFSETFROM:-0500
TZOFFSETTO:-0600
TZNAME:CST
DTSTART:20261101T070000
END:STANDARD
BEGIN:DAYLIGHT
TZOFFSETFROM:-0600
TZOFFSETTO:-0500
TZNAME:CDT
DTSTART:20270314T080000
END:DAYLIGHT
BEGIN:STANDARD
TZOFFSETFROM:-0500
TZOFFSETTO:-0600
TZNAME:CST
DTSTART:20271107T070000
END:STANDARD
END:VTIMEZONE
BEGIN:VEVENT
DTSTART;TZID=America/Chicago:20260321T110000
DTEND;TZID=America/Chicago:20260321T140000
DTSTAMP:20260420T201026
CREATED:20260316T142332Z
LAST-MODIFIED:20260316T142332Z
UID:10000507-1774090800-1774101600@pensacolabeach.com
SUMMARY:PlanNet Marketing Pensacola\, FL
DESCRIPTION:Make a Living While Living\n\n\nJoin us as we show you how ordinary individuals are creating extraordinary lives without sacrificing what matters to them most. They are creating residual and passive income through the power of collaborative economics. \nIf you have been searching for the perfect Home-Based business\, join us to learn how you can work from ANYWHERE!!!! \nHear From Top Money Earners and Leaders In The Industry to include Multi Six-Figure Income Earners: \nLaTeshia Campbell\,  Presidential Diamond Ring Wearer\, 5 Star Director Tiffany Pierce\, Presidential Sapphire Ring Wearer\, 4 Star DirectorLatoya Chin\, Presidential Sapphire Ring Wearer\, 3 Star Founding Director \n \nRegistration:11:00amMeeting: 11:30amTraining for Business Partners: 1:00pm \n \nTickets Are $20 for Business Partners!Guests are ALWAYS free. \nNo Transfers\, All Sales Final. 12 and Up
URL:https://pensacolabeach.com/pensacola-event/plannet-marketing-pensacola-fl/
LOCATION:Hilton Garden Inn Pensacola Downtown\, 8 South 9th Avenue\, Pensacola\, FL\, 32502\, United States
ATTACH;FMTTYPE=image/jpeg:https://pensacolabeach.com/wp-content/uploads/2026/03/067be341ee8cebcfc69922dd720f1985.jpg
END:VEVENT
END:VCALENDAR