BEGIN:VCALENDAR
VERSION:2.0
PRODID:-//PensacolaBeach.com - ECPv6.15.20//NONSGML v1.0//EN
CALSCALE:GREGORIAN
METHOD:PUBLISH
X-WR-CALNAME:PensacolaBeach.com
X-ORIGINAL-URL:https://pensacolabeach.com
X-WR-CALDESC:Events for PensacolaBeach.com
REFRESH-INTERVAL;VALUE=DURATION:PT1H
X-Robots-Tag:noindex
X-PUBLISHED-TTL:PT1H
BEGIN:VTIMEZONE
TZID:UTC
BEGIN:STANDARD
TZOFFSETFROM:+0000
TZOFFSETTO:+0000
TZNAME:UTC
DTSTART:20230101T000000
END:STANDARD
END:VTIMEZONE
BEGIN:VTIMEZONE
TZID:America/Chicago
BEGIN:DAYLIGHT
TZOFFSETFROM:-0600
TZOFFSETTO:-0500
TZNAME:CDT
DTSTART:20230312T080000
END:DAYLIGHT
BEGIN:STANDARD
TZOFFSETFROM:-0500
TZOFFSETTO:-0600
TZNAME:CST
DTSTART:20231105T070000
END:STANDARD
BEGIN:DAYLIGHT
TZOFFSETFROM:-0600
TZOFFSETTO:-0500
TZNAME:CDT
DTSTART:20240310T080000
END:DAYLIGHT
BEGIN:STANDARD
TZOFFSETFROM:-0500
TZOFFSETTO:-0600
TZNAME:CST
DTSTART:20241103T070000
END:STANDARD
BEGIN:DAYLIGHT
TZOFFSETFROM:-0600
TZOFFSETTO:-0500
TZNAME:CDT
DTSTART:20250309T080000
END:DAYLIGHT
BEGIN:STANDARD
TZOFFSETFROM:-0500
TZOFFSETTO:-0600
TZNAME:CST
DTSTART:20251102T070000
END:STANDARD
END:VTIMEZONE
BEGIN:VEVENT
DTSTART;TZID=UTC:20240517T170000
DTEND;TZID=UTC:20241220T220000
DTSTAMP:20260421T003533
CREATED:20241022T182522Z
LAST-MODIFIED:20241022T182522Z
UID:10000149-1715965200-1734732000@pensacolabeach.com
SUMMARY:Gallery Night Pensacola
DESCRIPTION:🎨🌟 Get ready to immerse yourself in the vibrant world of art and culture at Gallery Night Pensacola! 🌟🎨 \nJoin us as we take ART to the streets each month\, transforming downtown Pensacola into a dynamic hub of creativity\, music\, food\, and community. Gallery Night Pensacola is more than just an event – it’s a nonprofit organization dedicated to inspiring culture\, engagement\, and the practice of arts of all types. \nOur monthly events focus on specific themes\, highlight featured artists\, and showcase the best creators our area has to offer. Whether you’re a seasoned art enthusiast or simply looking for a fun night out\, there’s something for everyone at Gallery Night! \nMark your calendars for our upcoming schedule: \n📅 May 17 – Navy Days 📅 June 21 – Prismatic 📅 July 19 – Palafox Chalk Walk 📅 August 16 – Car Show 📅 September 20 – Viva Pensacola 📅 October 18 – Fright Night 📅 November 15 – Festival of Living Art 📅 December 20 – Ugly Sweater Weather \nJoin us at One Palafox Place LLC\, located at 13 Palafox Pl\, Pensacola\, FL 32502\, from 5–10 p.m. for an unforgettable evening filled with creativity\, inspiration\, and community spirit. \nFor more information and to stay updated on our events\, visit our website at https://gallerynightpensacola.org/ \nCome experience the culture of Pensacola at Gallery Night! See you there! 🎉🖼️
URL:https://pensacolabeach.com/pensacola-event/gallery-night-pensacola/
LOCATION:One Palafax Place LLC\, 13 Palafox Pl\, Pensacola\, Florida
ATTACH;FMTTYPE=image/png:https://pensacolabeach.com/wp-content/uploads/2024/10/gallery-night-0PFV7I.tmp_.png
END:VEVENT
BEGIN:VEVENT
DTSTART;TZID=America/Chicago:20241117T140000
DTEND;TZID=America/Chicago:20241117T160000
DTSTAMP:20260421T003533
CREATED:20241002T015521Z
LAST-MODIFIED:20241002T015521Z
UID:10000043-1731852000-1731859200@pensacolabeach.com
SUMMARY:Spirits of Seville Quarter Haunted Ghost an Tour\,  Investigation\, and Lunch
DESCRIPTION:Do YOU dare dine inside one of Pensacola’s oldest buildings at its MOST HAUNTED restaurant?
URL:https://pensacolabeach.com/pensacola-event/spirits-of-seville-quarter-haunted-ghost-an-tour-investigation-and-lunch-25/
LOCATION:Seville Quarter\, 130 East Government Street\, Pensacola\, FL\, 32502\, United States
ATTACH;FMTTYPE=image/jpeg:https://pensacolabeach.com/wp-content/uploads/2024/10/c07ba485012e4c24c5e940094a977b2f.jpg
END:VEVENT
BEGIN:VEVENT
DTSTART;TZID=America/Chicago:20241117T180000
DTEND;TZID=America/Chicago:20241117T200000
DTSTAMP:20260421T003533
CREATED:20241002T015521Z
LAST-MODIFIED:20241002T015521Z
UID:10000044-1731866400-1731873600@pensacolabeach.com
SUMMARY:Spirits of Seville Quarter Haunted Ghost an Tour\,  Investigation\, and Lunch
DESCRIPTION:Do YOU dare dine inside one of Pensacola’s oldest buildings at its MOST HAUNTED restaurant?
URL:https://pensacolabeach.com/pensacola-event/spirits-of-seville-quarter-haunted-ghost-an-tour-investigation-and-lunch-26/
LOCATION:Seville Quarter\, 130 East Government Street\, Pensacola\, FL\, 32502\, United States
ATTACH;FMTTYPE=image/jpeg:https://pensacolabeach.com/wp-content/uploads/2024/10/c07ba485012e4c24c5e940094a977b2f.jpg
END:VEVENT
END:VCALENDAR