BEGIN:VCALENDAR
VERSION:2.0
PRODID:-//PensacolaBeach.com - ECPv6.15.20//NONSGML v1.0//EN
CALSCALE:GREGORIAN
METHOD:PUBLISH
X-WR-CALNAME:PensacolaBeach.com
X-ORIGINAL-URL:https://pensacolabeach.com
X-WR-CALDESC:Events for PensacolaBeach.com
REFRESH-INTERVAL;VALUE=DURATION:PT1H
X-Robots-Tag:noindex
X-PUBLISHED-TTL:PT1H
BEGIN:VTIMEZONE
TZID:America/Chicago
BEGIN:DAYLIGHT
TZOFFSETFROM:-0600
TZOFFSETTO:-0500
TZNAME:CDT
DTSTART:20240310T080000
END:DAYLIGHT
BEGIN:STANDARD
TZOFFSETFROM:-0500
TZOFFSETTO:-0600
TZNAME:CST
DTSTART:20241103T070000
END:STANDARD
BEGIN:DAYLIGHT
TZOFFSETFROM:-0600
TZOFFSETTO:-0500
TZNAME:CDT
DTSTART:20250309T080000
END:DAYLIGHT
BEGIN:STANDARD
TZOFFSETFROM:-0500
TZOFFSETTO:-0600
TZNAME:CST
DTSTART:20251102T070000
END:STANDARD
BEGIN:DAYLIGHT
TZOFFSETFROM:-0600
TZOFFSETTO:-0500
TZNAME:CDT
DTSTART:20260308T080000
END:DAYLIGHT
BEGIN:STANDARD
TZOFFSETFROM:-0500
TZOFFSETTO:-0600
TZNAME:CST
DTSTART:20261101T070000
END:STANDARD
END:VTIMEZONE
BEGIN:VEVENT
DTSTART;TZID=America/Chicago:20250210T190000
DTEND;TZID=America/Chicago:20250210T210000
DTSTAMP:20260420T190636
CREATED:20241211T230301Z
LAST-MODIFIED:20241211T230301Z
UID:10000174-1739214000-1739221200@pensacolabeach.com
SUMMARY:Gulf Shores Winter Concert Series  ft. What A Wonderful World Monday Feb.10
DESCRIPTION:The Gulf Shores Winter Concert Series is back! The 2025 season  will be held at the Erie H. Meyer Civic Center. Ticket purchase required.\n\n\nWhat A Wonderful World – A Tribute to Louis Armstrong \nFeaturing Longineu Parsons \n“As a featured guest star with the Palm Beach Pops for over 20 years\, Longineu is an audience favorite and has commanded sold out performances each time he appeared with the orchestra. His skill\, stage presence\, unrivaled understanding and study of Louis Armstrong and vast knowledge of all genres of music and culture ensure a world-class performance each time he graces the stage.” \nJon Lappin – Executive Director\, Palm Beach Pops Orchestra \nLouis Armstrong is perhaps the most important figure in the history of American music and is certainly one of the most recognizable figures in the world. He wrote many jazz songs that have become standards\, and won 11 Grammy Awards as well as the Lifetime Achievement Award. \nLongineu Parsons is one of the world’s finest trumpeters and when he interprets Louis\, he goes far beyond what can be studied and learned. The way he touches the trumpet and growls his vocals is as though he is channeling the great master of American music. \nIn this spellbinding tribute concert\, Longineu Parsons and his band will lovingly perform Louis Armstrong classics such as “Basin St. Blues\,” “Hello Dolly\,” and\, of course\, “What A Wonderful World.” \nLongineu has electrified audiences with his Louis Armstrong tribute from Europe to South America to Carnegie Hall! \n \nAbout Longineu Parsons \nDr. Longineu Parsons\, II\, is Professor of Music at Florida A&M University and is President of Tribal Disorder Records. He has performed and recorded with an impressive list of music greats including Nat Adderley\, Cab Calloway\, Frank Foster\, Billy Harper\, Philly Joe Jones\, Herbie Mann\, David Murray\, Sun Ra\, Sam Rivers\, Cecil Taylor\, Joe Williams\, Nancy Wilson\, and others. Recent album releases include “Work Song – 25th Anniversary Edition\,” co-produced by Nat Adderley\, “21 Blue – Blues for the 21st Century” (with Ted Shumate)\, and “To Satchmo with Love.” Two new albums are scheduled for release in 2024.
URL:https://pensacolabeach.com/pensacola-event/gulf-shores-winter-concert-series-ft-what-a-wonderful-world-monday-feb-10/
LOCATION:Erie H. Meyer Civic Center\, 1930 West 2nd Street\, Gulf Shores\, AL\, 36542\, United States
ATTACH;FMTTYPE=image/jpeg:https://pensacolabeach.com/wp-content/uploads/2024/12/b6c34b8a54b6cd025e391220f0e3771d.jpg
END:VEVENT
END:VCALENDAR