BEGIN:VCALENDAR
VERSION:2.0
PRODID:-//PensacolaBeach.com - ECPv6.15.20//NONSGML v1.0//EN
CALSCALE:GREGORIAN
METHOD:PUBLISH
X-WR-CALNAME:PensacolaBeach.com
X-ORIGINAL-URL:https://pensacolabeach.com
X-WR-CALDESC:Events for PensacolaBeach.com
REFRESH-INTERVAL;VALUE=DURATION:PT1H
X-Robots-Tag:noindex
X-PUBLISHED-TTL:PT1H
BEGIN:VTIMEZONE
TZID:America/Chicago
BEGIN:DAYLIGHT
TZOFFSETFROM:-0600
TZOFFSETTO:-0500
TZNAME:CDT
DTSTART:20240310T080000
END:DAYLIGHT
BEGIN:STANDARD
TZOFFSETFROM:-0500
TZOFFSETTO:-0600
TZNAME:CST
DTSTART:20241103T070000
END:STANDARD
BEGIN:DAYLIGHT
TZOFFSETFROM:-0600
TZOFFSETTO:-0500
TZNAME:CDT
DTSTART:20250309T080000
END:DAYLIGHT
BEGIN:STANDARD
TZOFFSETFROM:-0500
TZOFFSETTO:-0600
TZNAME:CST
DTSTART:20251102T070000
END:STANDARD
BEGIN:DAYLIGHT
TZOFFSETFROM:-0600
TZOFFSETTO:-0500
TZNAME:CDT
DTSTART:20260308T080000
END:DAYLIGHT
BEGIN:STANDARD
TZOFFSETFROM:-0500
TZOFFSETTO:-0600
TZNAME:CST
DTSTART:20261101T070000
END:STANDARD
END:VTIMEZONE
BEGIN:VEVENT
DTSTART;TZID=America/Chicago:20250304T090000
DTEND;TZID=America/Chicago:20250304T180000
DTSTAMP:20260420T171256
CREATED:20250102T233458Z
LAST-MODIFIED:20250102T233458Z
UID:10000185-1741078800-1741111200@pensacolabeach.com
SUMMARY:Pensacola\, FL FMC® Food Managers Certification
DESCRIPTION:This is a hybrid in-person instructor-led course & proctored exam session meaning that self-study is required before attending.
URL:https://pensacolabeach.com/pensacola-event/pensacola-fl-fmc-food-managers-certification-2/
LOCATION:Pensacola\, Pensacola\, Pensacola\, FL\, United States
ATTACH;FMTTYPE=image/jpeg:https://pensacolabeach.com/wp-content/uploads/2025/01/f09c588f9653f50ff0cc56f7d13ee8d5.jpg
END:VEVENT
BEGIN:VEVENT
DTSTART;TZID=America/Chicago:20250304T090000
DTEND;TZID=America/Chicago:20250304T180000
DTSTAMP:20260420T171256
CREATED:20250102T233527Z
LAST-MODIFIED:20250102T233527Z
UID:10000187-1741078800-1741111200@pensacolabeach.com
SUMMARY:Gulf Breeze\, FL FMC® Food Managers Certification
DESCRIPTION:This is a hybrid in-person instructor-led course & proctored exam session meaning that self-study is required before attending.
URL:https://pensacolabeach.com/pensacola-event/gulf-breeze-fl-fmc-food-managers-certification-2/
LOCATION:Gulf Breeze\, Gulf Breeze\, Gulf Breeze\, FL\, United States
ATTACH;FMTTYPE=image/jpeg:https://pensacolabeach.com/wp-content/uploads/2025/01/d0864a43c24529de726fde6bed6f47c8.jpg
END:VEVENT
BEGIN:VEVENT
DTSTART;TZID=America/Chicago:20250304T190000
DTEND;TZID=America/Chicago:20250304T210000
DTSTAMP:20260420T171256
CREATED:20250227T222637Z
LAST-MODIFIED:20250227T222637Z
UID:10000291-1741114800-1741122000@pensacolabeach.com
SUMMARY:Scenes and Sips
DESCRIPTION:An intimate cinematic experience of short films enjoyed with handcrafted drinks\, featuring drama\, suspense\, horror\, and romance\n\n\n“Scenes and Sips” is an exclusive short film showcase blending cinema and sophistication. Set in an intimate wine bar\, this one-of-a-kind event features a curated selection of short films spanning drama\, suspense\, horror\, and romantic comedy directed by Pensacola filmmaker Kalvo Griffin. Sip on fine wines and handcrafted drinks while immersing yourself in captivating storytelling\, making for an unforgettable evening of culture\, creativity\, and conversation. \nThis event will also offer a sneak peek at the upcoming horror mini-series\, “The Peppermint Lady\,” coming soon from FORC3 Studios.
URL:https://pensacolabeach.com/pensacola-event/scenes-and-sips/
LOCATION:Casks and Flights Wine Tasting Room\, 121 South Palafox Street\, Pensacola\, FL\, 32502\, United States
ATTACH;FMTTYPE=image/jpeg:https://pensacolabeach.com/wp-content/uploads/2025/02/b973c9e86aec5f1aaf8719a19658810e.jpg
END:VEVENT
END:VCALENDAR