BEGIN:VCALENDAR
VERSION:2.0
PRODID:-//PensacolaBeach.com - ECPv6.15.20//NONSGML v1.0//EN
CALSCALE:GREGORIAN
METHOD:PUBLISH
X-ORIGINAL-URL:https://pensacolabeach.com
X-WR-CALDESC:Events for PensacolaBeach.com
REFRESH-INTERVAL;VALUE=DURATION:PT1H
X-Robots-Tag:noindex
X-PUBLISHED-TTL:PT1H
BEGIN:VTIMEZONE
TZID:America/Chicago
BEGIN:DAYLIGHT
TZOFFSETFROM:-0600
TZOFFSETTO:-0500
TZNAME:CDT
DTSTART:20240310T080000
END:DAYLIGHT
BEGIN:STANDARD
TZOFFSETFROM:-0500
TZOFFSETTO:-0600
TZNAME:CST
DTSTART:20241103T070000
END:STANDARD
BEGIN:DAYLIGHT
TZOFFSETFROM:-0600
TZOFFSETTO:-0500
TZNAME:CDT
DTSTART:20250309T080000
END:DAYLIGHT
BEGIN:STANDARD
TZOFFSETFROM:-0500
TZOFFSETTO:-0600
TZNAME:CST
DTSTART:20251102T070000
END:STANDARD
BEGIN:DAYLIGHT
TZOFFSETFROM:-0600
TZOFFSETTO:-0500
TZNAME:CDT
DTSTART:20260308T080000
END:DAYLIGHT
BEGIN:STANDARD
TZOFFSETFROM:-0500
TZOFFSETTO:-0600
TZNAME:CST
DTSTART:20261101T070000
END:STANDARD
END:VTIMEZONE
BEGIN:VEVENT
DTSTART;TZID=America/Chicago:20250502T190000
DTEND;TZID=America/Chicago:20250502T213000
DTSTAMP:20260420T134209
CREATED:20250501T002837Z
LAST-MODIFIED:20250501T002837Z
UID:10000327-1746212400-1746221400@pensacolabeach.com
SUMMARY:Dixon Dub 2025
DESCRIPTION:Dixon Dub is a lip-sync and vocalist (NEW!) battle benefiting Dixon School of Arts & Sciences and Dixon After Hours.\n\n\nDixon School of Arts & Sciences is proud to announce that Dixon Dub\, a high-energy lip sync battle\, is coming to Downtown Pensacola on May 2\, 2025! \nThis exciting event will feature teams competing in a lip-syncing and vocalist battle to raise funds for Dixon School of Arts & Sciences—a 501(c)3 nonprofit school dedicated to nurturing scholars by integrating the arts into its core S.T.E.A.M. (Science\, Technology\, Engineering\, Arts and Math) curriculum and the Dixon After Hours after-school hours program. \nP lease join us for an evening of entertainment\, music\, laughter\, food and fun in celebration of the arts … and in support of a school that uses the arts to inspire and empower young students for the betterment of our community. \nInnisfree Hotels has generously donated the use of the Hilton Pensacola Beach with sponsor rooms and more so that ticket and corporate sponsorship proceeds can be used to support the school and its young students! \n \nENTER YOUR TEAM AND WIN A BEACH VACATION!\nTOP LIP-SYNC AND VOCALIST WINNERS WILL EACH RECEIVE A HILTON PARTY WEEKEND INCLUDING A 3-BEDROOM SUITE FOR TWO NIGHTS\, A FULL-DAY USAGE OF A POOLSIDE CABANA AND A $250 FOOD & BEVERAGE TAB!\n*Blackout dates apply to holiday weekends and the week between Christmas and New Year’s. \nEmail dixondub@dixonschoolota.org \n \n\nTeam registration fee is $100 tax-deductible donation\nTeams must have at least 2 people and a max of 6\nMust be 15 years or older to participate\nNo song duplicates—first come\, first served (so choose early!)\nFamily-friendly music and costumes\, please. No cursing or overt sexuality.\nMaximum 5-minute song limit\nMaximum 3 microphones for live acts
URL:https://pensacolabeach.com/pensacola-event/dixon-dub-2025/
LOCATION:The Rex\, 18 North Palafox Street\, Pensacola\, FL\, 32502\, United States
ATTACH;FMTTYPE=image/jpeg:https://pensacolabeach.com/wp-content/uploads/2025/04/05e9a5c0000729aab835a0fa56f52183.jpg
END:VEVENT
BEGIN:VEVENT
DTSTART;TZID=America/Chicago:20250502T190000
DTEND;TZID=America/Chicago:20250503T000000
DTSTAMP:20260420T134209
CREATED:20250501T002621Z
LAST-MODIFIED:20250501T002621Z
UID:10000323-1746212400-1746230400@pensacolabeach.com
SUMMARY:Reggae Night - Island Vibes
DESCRIPTION:Come dance to Reggae\, Dancehall\, Afrobeats and Soca and feel the rhythm of the islands. Live music by Vibe Irie and DJ Chocolate Drip.\n\n\nGet ready to soak in the ultimate island vibes at our Reggae Night featuring the electrifying sounds of local artist Vibe Irie and the smooth beats of DJ Chocolate Drip! This night promises to transport you to a tropical paradise\, with the rhythms of Dancehall\, Afrobeats\, and Soca filling the air. Vibe Irie will bring a soulful reggae performance\, while DJ Chocolate Drip will keep the energy high with a mix of upbeat and chill tunes that’ll have you dancing all night long. \nWe’ve got everything you need for a laid-back yet exciting experience – plenty of comfortable seating to relax with friends\, plus a diverse range of vendors and a food truck to satisfy all your cravings. Whether you’re here to groove to the music\, enjoy delicious island-inspired eats\, or just vibe with the good energy\, there’s something for everyone. \nThis event is the perfect way to unwind\, enjoy the warm island atmosphere\, and connect with the local community. Bring your crew\, your best dance moves\, and your appetite for great food and great music. Let the good times roll at our Island Vibes Reggae Night – it’s an unforgettable evening you won’t want to miss! \nSmoke Friendly Facility \nNO REFUNDS
URL:https://pensacolabeach.com/pensacola-event/reggae-night-island-vibes/
LOCATION:Court Of De Luna\, 116 East Gonzalez Street\, Pensacola\, FL\, 32501\, United States
ATTACH;FMTTYPE=image/jpeg:https://pensacolabeach.com/wp-content/uploads/2025/04/4ec788f7995619708385df1b6fa9d246.jpg
END:VEVENT
BEGIN:VEVENT
DTSTART;TZID=America/Chicago:20250502T200000
DTEND;TZID=America/Chicago:20250503T013000
DTSTAMP:20260420T134209
CREATED:20250501T002338Z
LAST-MODIFIED:20250501T002338Z
UID:10000320-1746216000-1746235800@pensacolabeach.com
SUMMARY:INZO - Pensacola Beach\, FL
DESCRIPTION:INZO hits the stage at Laguna’s Beach Bar on May 2nd. Must be 18+
URL:https://pensacolabeach.com/pensacola-event/inzo-pensacola-beach-fl/
LOCATION:Laguna’s Beach Bar + Grill\, 460 Pensacola Beach Boulevard\, Pensacola Beach\, FL\, 32561\, United States
ATTACH;FMTTYPE=image/jpeg:https://pensacolabeach.com/wp-content/uploads/2025/04/6035de2be0232ed48efede0abecc3ce3.jpg
END:VEVENT
END:VCALENDAR