BEGIN:VCALENDAR
VERSION:2.0
PRODID:-//PensacolaBeach.com - ECPv6.15.20//NONSGML v1.0//EN
CALSCALE:GREGORIAN
METHOD:PUBLISH
X-ORIGINAL-URL:https://pensacolabeach.com
X-WR-CALDESC:Events for PensacolaBeach.com
REFRESH-INTERVAL;VALUE=DURATION:PT1H
X-Robots-Tag:noindex
X-PUBLISHED-TTL:PT1H
BEGIN:VTIMEZONE
TZID:America/Chicago
BEGIN:DAYLIGHT
TZOFFSETFROM:-0600
TZOFFSETTO:-0500
TZNAME:CDT
DTSTART:20240310T080000
END:DAYLIGHT
BEGIN:STANDARD
TZOFFSETFROM:-0500
TZOFFSETTO:-0600
TZNAME:CST
DTSTART:20241103T070000
END:STANDARD
BEGIN:DAYLIGHT
TZOFFSETFROM:-0600
TZOFFSETTO:-0500
TZNAME:CDT
DTSTART:20250309T080000
END:DAYLIGHT
BEGIN:STANDARD
TZOFFSETFROM:-0500
TZOFFSETTO:-0600
TZNAME:CST
DTSTART:20251102T070000
END:STANDARD
BEGIN:DAYLIGHT
TZOFFSETFROM:-0600
TZOFFSETTO:-0500
TZNAME:CDT
DTSTART:20260308T080000
END:DAYLIGHT
BEGIN:STANDARD
TZOFFSETFROM:-0500
TZOFFSETTO:-0600
TZNAME:CST
DTSTART:20261101T070000
END:STANDARD
END:VTIMEZONE
BEGIN:VEVENT
DTSTART;TZID=America/Chicago:20250504T140000
DTEND;TZID=America/Chicago:20250504T200000
DTSTAMP:20260420T134026
CREATED:20250501T002401Z
LAST-MODIFIED:20250501T002401Z
UID:10000321-1746367200-1746388800@pensacolabeach.com
SUMMARY:Sombreros & Sundresses Pre Cinco De Mayo Day Party
DESCRIPTION:First Class Events\, Dreesey Baby\, & Woo Invite You To Come Out To The City’s First Sombreros & Sundresses Pre Cinco De Mayo Day Party\n\n\nThe City’s First Sombreros & Sundresses Pre Cinco De Mayo Day Party will set the atmosphere for you to celebrate. Drinks 🍹will be served from multiple the cash bars. Enjoy the vibrant indoor/outdoor atmosphere with multiple DJ’s creating a vibe catered to you. 😎🎶 \n \nEvent: 2:00pm-8:00pm \nLadies get cute\, put on your sundresses and be ready to vibe!😉 \nFree Sombreros\, Food\, Games \nIt’s not just a vibe at a First Class Event it’s an EXPERIENCE. \n#FirstClassEventsPensacola #ItsAVibe \n(NO REFUNDS) \n(NO EXCEPTIONS) \nTo book reserved tables call 📱 \n813-210-7711 or 850-251-8206
URL:https://pensacolabeach.com/pensacola-event/sombreros-sundresses-pre-cinco-de-mayo-day-party/
LOCATION:Emerald Republic Brewing\, 1414 West Government Street\, Pensacola\, FL\, 32502\, United States
ATTACH;FMTTYPE=image/jpeg:https://pensacolabeach.com/wp-content/uploads/2025/04/4d49bb6dcde837b7721534375e5ab152.jpg
END:VEVENT
END:VCALENDAR