BEGIN:VCALENDAR
VERSION:2.0
PRODID:-//PensacolaBeach.com - ECPv6.15.20//NONSGML v1.0//EN
CALSCALE:GREGORIAN
METHOD:PUBLISH
X-WR-CALNAME:PensacolaBeach.com
X-ORIGINAL-URL:https://pensacolabeach.com
X-WR-CALDESC:Events for PensacolaBeach.com
REFRESH-INTERVAL;VALUE=DURATION:PT1H
X-Robots-Tag:noindex
X-PUBLISHED-TTL:PT1H
BEGIN:VTIMEZONE
TZID:America/Chicago
BEGIN:DAYLIGHT
TZOFFSETFROM:-0600
TZOFFSETTO:-0500
TZNAME:CDT
DTSTART:20240310T080000
END:DAYLIGHT
BEGIN:STANDARD
TZOFFSETFROM:-0500
TZOFFSETTO:-0600
TZNAME:CST
DTSTART:20241103T070000
END:STANDARD
BEGIN:DAYLIGHT
TZOFFSETFROM:-0600
TZOFFSETTO:-0500
TZNAME:CDT
DTSTART:20250309T080000
END:DAYLIGHT
BEGIN:STANDARD
TZOFFSETFROM:-0500
TZOFFSETTO:-0600
TZNAME:CST
DTSTART:20251102T070000
END:STANDARD
BEGIN:DAYLIGHT
TZOFFSETFROM:-0600
TZOFFSETTO:-0500
TZNAME:CDT
DTSTART:20260308T080000
END:DAYLIGHT
BEGIN:STANDARD
TZOFFSETFROM:-0500
TZOFFSETTO:-0600
TZNAME:CST
DTSTART:20261101T070000
END:STANDARD
END:VTIMEZONE
BEGIN:VEVENT
DTSTART;TZID=America/Chicago:20250515T150000
DTEND;TZID=America/Chicago:20250517T140000
DTSTAMP:20260420T133912
CREATED:20250227T222714Z
LAST-MODIFIED:20250227T222714Z
UID:10000292-1747321200-1747490400@pensacolabeach.com
SUMMARY:Fishbein Fundamentals TC and Office Manager Course
DESCRIPTION:Join us for a 1.5 day intensive learning opportunity and leave with the tools you need to improve efficiency and grow your practice.\n\n\nTaught by the COO and Senior Leadership Team of one of the fastest growing orthodontic practices in the nation\, during this seminar you’ll learn the systems that helped them execute all-inclusive 30-minute new patient exams\, same-day start over 80% of their overall starts\, and sell whitening and retainer plan add-ons at a 95% attachment rate\, as well as how they handle daily operations and patient care. Through interactive sessions and hands-on training\, participants will learn how to implement these streamlined processes and will be provided with the knowledge\, confidence\, and skills necessary to excel in their role. Learn more at fishbeinfundamentals.com \n*Courses typically sell out 6 months prior to course date. We encourage early sign up as spacing is limited. We offer a full refund within 60 days prior to the course date\, a 50% refund within 60-30 days prior to the course date\, and no refund within 30 days prior.
URL:https://pensacolabeach.com/pensacola-event/fishbein-fundamentals-tc-and-office-manager-course/
LOCATION:Fairfield Inn & Suites by Marriott Pensacola Beach\, 16 Via De Luna Drive\, Pensacola Beach\, FL\, 32561\, United States
ATTACH;FMTTYPE=image/jpeg:https://pensacolabeach.com/wp-content/uploads/2025/02/a608329f86431b206ba98d0a77cb74cc.jpg
END:VEVENT
END:VCALENDAR