BEGIN:VCALENDAR
VERSION:2.0
PRODID:-//PensacolaBeach.com - ECPv6.15.20//NONSGML v1.0//EN
CALSCALE:GREGORIAN
METHOD:PUBLISH
X-ORIGINAL-URL:https://pensacolabeach.com
X-WR-CALDESC:Events for PensacolaBeach.com
REFRESH-INTERVAL;VALUE=DURATION:PT1H
X-Robots-Tag:noindex
X-PUBLISHED-TTL:PT1H
BEGIN:VTIMEZONE
TZID:America/Chicago
BEGIN:DAYLIGHT
TZOFFSETFROM:-0600
TZOFFSETTO:-0500
TZNAME:CDT
DTSTART:20240310T080000
END:DAYLIGHT
BEGIN:STANDARD
TZOFFSETFROM:-0500
TZOFFSETTO:-0600
TZNAME:CST
DTSTART:20241103T070000
END:STANDARD
BEGIN:DAYLIGHT
TZOFFSETFROM:-0600
TZOFFSETTO:-0500
TZNAME:CDT
DTSTART:20250309T080000
END:DAYLIGHT
BEGIN:STANDARD
TZOFFSETFROM:-0500
TZOFFSETTO:-0600
TZNAME:CST
DTSTART:20251102T070000
END:STANDARD
BEGIN:DAYLIGHT
TZOFFSETFROM:-0600
TZOFFSETTO:-0500
TZNAME:CDT
DTSTART:20260308T080000
END:DAYLIGHT
BEGIN:STANDARD
TZOFFSETFROM:-0500
TZOFFSETTO:-0600
TZNAME:CST
DTSTART:20261101T070000
END:STANDARD
END:VTIMEZONE
BEGIN:VEVENT
DTSTART;TZID=America/Chicago:20250518T130000
DTEND;TZID=America/Chicago:20250518T150000
DTSTAMP:20260420T133100
CREATED:20250501T002911Z
LAST-MODIFIED:20250501T002911Z
UID:10000328-1747573200-1747580400@pensacolabeach.com
SUMMARY:Hollywood Murder Mystery BRUNCH at Senior Frogs
DESCRIPTION:Join us for our Hollywood Murder Mystery Brunch at Senior Frogs – where you can solve a crime while enjoying delicious food & drinks!\n\n\nWelcome to Hollywood Murder Mystery BRUNCH at Senior Frogs! \nJoin us at Señor Frog’s Pensacola Beach for a thrilling event filled with suspense\, laughter\, and delicious food. Get ready to solve a Hollywood-inspired murder mystery while enjoying a scrumptious brunch spread. Dress to impress in your best detective or Hollywood attire for a chance to win exciting prizes. This in-person event promises an unforgettable experience with interactive entertainment and a Mexican fiesta vibe. Don’t miss out on this unique opportunity to brunch\, sleuth\, and have a blast at Senior Frogs! \nAll ICMT shows include a high level of audience participation\, while audiences are NOT REQUIRED to participate\, we do encourage guests to interrogate suspects\, analyze evidence and generally interact with the cast throughout the performance in this immersive murder mystery game! \nTHE PLOT\nLIGHTS CAMERA MURDERThis show revolves around the set of the new Max Moon film\, TORNADO (a B – level science fiction film reminiscent of Sharknado or any SciFi channel movie of the week). The audience are “extras” on the set of the film and they meet and watch fellow actors Maya Styles- a Hollywood diva\, and Demetri Karkaroff – a snobby NYC actor constantly squabble over who is more talented etc. Keeping these actors in check is Penelope Smalls – the shy\, ineffective production coordinator of the film and of course the director – Max Moon. The film is in financial straits\, mainly because of Max’s overspending\, and his sister and producer of the film Ida Money eventually shows up to find out exactly what’s going on. When bad things happen\, as they inevitably do… enter ICMT’s very own Detective Gunn who will help YOU solve the murder. If you like cheesy sci-fi – you’ll LOVE this show! \nAudiences are encouraged to “audition” for the movie at the end of the murder mystery by performing cold readings from the TORnado script. \nThis 90-120 minute show promises plenty of laughs as well as give you an opportunity to really test out your sleuthing skills as you try to figure out this epic sci-fi adventure!
URL:https://pensacolabeach.com/pensacola-event/hollywood-murder-mystery-brunch-at-senior-frogs/
LOCATION:Señor Frog’s Pensacola Beach | Mexican Restaurant & Fiesta\, Boardwalk\, Pensacola\, FL\, 32561\, United States
ATTACH;FMTTYPE=image/jpeg:https://pensacolabeach.com/wp-content/uploads/2025/04/d4a5569b2eef78cf17277d18aa94ab14.jpg
END:VEVENT
END:VCALENDAR