BEGIN:VCALENDAR
VERSION:2.0
PRODID:-//PensacolaBeach.com - ECPv6.15.20//NONSGML v1.0//EN
CALSCALE:GREGORIAN
METHOD:PUBLISH
X-ORIGINAL-URL:https://pensacolabeach.com
X-WR-CALDESC:Events for PensacolaBeach.com
REFRESH-INTERVAL;VALUE=DURATION:PT1H
X-Robots-Tag:noindex
X-PUBLISHED-TTL:PT1H
BEGIN:VTIMEZONE
TZID:America/Chicago
BEGIN:DAYLIGHT
TZOFFSETFROM:-0600
TZOFFSETTO:-0500
TZNAME:CDT
DTSTART:20240310T080000
END:DAYLIGHT
BEGIN:STANDARD
TZOFFSETFROM:-0500
TZOFFSETTO:-0600
TZNAME:CST
DTSTART:20241103T070000
END:STANDARD
BEGIN:DAYLIGHT
TZOFFSETFROM:-0600
TZOFFSETTO:-0500
TZNAME:CDT
DTSTART:20250309T080000
END:DAYLIGHT
BEGIN:STANDARD
TZOFFSETFROM:-0500
TZOFFSETTO:-0600
TZNAME:CST
DTSTART:20251102T070000
END:STANDARD
BEGIN:DAYLIGHT
TZOFFSETFROM:-0600
TZOFFSETTO:-0500
TZNAME:CDT
DTSTART:20260308T080000
END:DAYLIGHT
BEGIN:STANDARD
TZOFFSETFROM:-0500
TZOFFSETTO:-0600
TZNAME:CST
DTSTART:20261101T070000
END:STANDARD
END:VTIMEZONE
BEGIN:VEVENT
DTSTART;TZID=America/Chicago:20250522T070000
DTEND;TZID=America/Chicago:20250522T120000
DTSTAMP:20260420T133054
CREATED:20250227T222744Z
LAST-MODIFIED:20250501T002428Z
UID:10000293-1747897200-1747915200@pensacolabeach.com
SUMMARY:MEMORIAL WEEKEND PENSACOLA BEACH 2025
DESCRIPTION:Johnny Chisholm presents Memorial Weekend Pensacola! The largest LGBTQ+ Memorial Day event held in North America!\n\n\nJohnny Chisholm presents Memorial Weekend Pensacola! The largest LGBTQ+ Memorial Day event held in North America!
URL:https://pensacolabeach.com/pensacola-event/memorial-weekend-pensacola-beach-2025/
LOCATION:Pensacola Beach Park East\, Florida 399\, Pensacola Beach\, FL\, 32561\, United States
ATTACH;FMTTYPE=image/jpeg:https://pensacolabeach.com/wp-content/uploads/2025/02/49a1fcfd5f002382b076a58ef5f6f905.jpg
END:VEVENT
END:VCALENDAR