BEGIN:VCALENDAR
VERSION:2.0
PRODID:-//PensacolaBeach.com - ECPv6.15.20//NONSGML v1.0//EN
CALSCALE:GREGORIAN
METHOD:PUBLISH
X-ORIGINAL-URL:https://pensacolabeach.com
X-WR-CALDESC:Events for PensacolaBeach.com
REFRESH-INTERVAL;VALUE=DURATION:PT1H
X-Robots-Tag:noindex
X-PUBLISHED-TTL:PT1H
BEGIN:VTIMEZONE
TZID:America/Chicago
BEGIN:DAYLIGHT
TZOFFSETFROM:-0600
TZOFFSETTO:-0500
TZNAME:CDT
DTSTART:20240310T080000
END:DAYLIGHT
BEGIN:STANDARD
TZOFFSETFROM:-0500
TZOFFSETTO:-0600
TZNAME:CST
DTSTART:20241103T070000
END:STANDARD
BEGIN:DAYLIGHT
TZOFFSETFROM:-0600
TZOFFSETTO:-0500
TZNAME:CDT
DTSTART:20250309T080000
END:DAYLIGHT
BEGIN:STANDARD
TZOFFSETFROM:-0500
TZOFFSETTO:-0600
TZNAME:CST
DTSTART:20251102T070000
END:STANDARD
BEGIN:DAYLIGHT
TZOFFSETFROM:-0600
TZOFFSETTO:-0500
TZNAME:CDT
DTSTART:20260308T080000
END:DAYLIGHT
BEGIN:STANDARD
TZOFFSETFROM:-0500
TZOFFSETTO:-0600
TZNAME:CST
DTSTART:20261101T070000
END:STANDARD
END:VTIMEZONE
BEGIN:VTIMEZONE
TZID:UTC
BEGIN:STANDARD
TZOFFSETFROM:+0000
TZOFFSETTO:+0000
TZNAME:UTC
DTSTART:20240101T000000
END:STANDARD
END:VTIMEZONE
BEGIN:VEVENT
DTSTART;TZID=America/Chicago:20250529T180000
DTEND;TZID=America/Chicago:20250601T150000
DTSTAMP:20260420T151240
CREATED:20250227T222357Z
LAST-MODIFIED:20250528T234746Z
UID:10000287-1748541600-1748790000@pensacolabeach.com
SUMMARY:Pensacola Cigar Weekend: Embers & Elegance
DESCRIPTION:Pensacola Cigar Weekend\, where the grown & sexy smoke\, sip & celebrate. Enjoy  cigars\, smooth spirits\, luxe vibes & unforgettable nights!\n\n\n🔥 Indulge in the perfect blend of sophistication and relaxation as you enjoy premium cigars in an upscale atmosphere. Whether you’re a seasoned aficionado or just looking to unwind in style\, this is THE event you don’twant to miss! 🔥 \n🎟️ Choose Your Experience: \n💎AFICIONADO VIP TICKET: The ultimate PCW experience! Enjoy: \n💎 Access to ALL events \n💎 Premium swag bag \n💎 Reserved seating & early access¨ \n💎Complimentary drinks & gourmet tapas \n💎Exclusive tastings & celebrity meet-and- greets \n💎A fabulous Sunday Jazz Brunch \n💎Go VIP for the best experience limited availability! \n⬇️⬇️⬇️ \n🎷🔥JAZZY TICKET (3-Day Ticket) Enjoy two days of premium cigars\, spirits\, wine\, comraderie that ends with a Sunday Jazz Brunch. \n🎶Friday The Opening Act with Live Entertainment & DJ’s \n🎤Saturday Latin Vibes with Live Entertainment & DJ’s \n🎤Saturday The Main Affair with Live Entertainment & DJ’s \n🎷 Sunday Sundresses & Linen Jazz Brunch Enjoy unlimited mimosa\, brunch favorites\, and a live band. \n🎟️Your ticket is waiting. Secure your spot today! \n⬇️⬇️⬇️ \n🔥GENERAL ADMISSION (2-Night Ticket) Immerse yourself in the premium cigar culture with: \n🎶Friday’s Electrifying Opening Act with Live Entertainment & DJ’s \n🎤Saturday’s Main Affair with Live Entertainment & DJ’s \n💃🏻Premium vibes & unforgettable moments as you dance\, sip\, smoke & interact with premium cigar\, spirit & wine vendors ! \n🎫 Want flexibility? Individual event tickets are also available! \n🔥Don’t wait secure your spot now and get ready for a weekend of sophistication\, cigars\, and unforgettable memories! \n📍 Grab your tickets NOW before they’re gone!
URL:https://pensacolabeach.com/pensacola-event/pensacola-cigar-weekend-embers-elegance/
LOCATION:Court of De Luna Event Space\, 116 East Gonzalez Street\, Pensacola\, FL\, 32501\, United States
ATTACH;FMTTYPE=image/jpeg:https://pensacolabeach.com/wp-content/uploads/2025/02/97076d35c1412d13cda71937027e1f9c.jpg
END:VEVENT
BEGIN:VEVENT
DTSTART;TZID=UTC:20250531T180000
DTEND;TZID=UTC:20250531T210000
DTSTAMP:20260420T151240
CREATED:20250528T233557Z
LAST-MODIFIED:20250528T233603Z
UID:10000333-1748714400-1748725200@pensacolabeach.com
SUMMARY:Dead Last Live Music
DESCRIPTION:Get ready to sip\, savor\, and soak up the sun at The Hideaway Beach Bar. With tropical cocktails\, beachy bites\, and laid-back island vibes\, The Hideaway is your go-to spot for good times\, strong tides\, and stronger drinks. Stay tuned—paradise is just around the corner! \nFeatured Band:Dead Last \nVisit us at hideawaybeachbar.com today for more information.
URL:https://pensacolabeach.com/pensacola-event/dead-last-live-music/
LOCATION:The Hideaway Beach Bar\, 400 Quietwater Beach Road\, Pensacola Beach\, FL\, 32561\, United States
CATEGORIES:Events
ATTACH;FMTTYPE=image/jpeg:https://pensacolabeach.com/wp-content/uploads/2025/05/7479d1c8-50a4-4739-9f64-343220058fd3.jpg
END:VEVENT
END:VCALENDAR