BEGIN:VCALENDAR
VERSION:2.0
PRODID:-//PensacolaBeach.com - ECPv6.15.20//NONSGML v1.0//EN
CALSCALE:GREGORIAN
METHOD:PUBLISH
X-ORIGINAL-URL:https://pensacolabeach.com
X-WR-CALDESC:Events for PensacolaBeach.com
REFRESH-INTERVAL;VALUE=DURATION:PT1H
X-Robots-Tag:noindex
X-PUBLISHED-TTL:PT1H
BEGIN:VTIMEZONE
TZID:UTC
BEGIN:STANDARD
TZOFFSETFROM:+0000
TZOFFSETTO:+0000
TZNAME:UTC
DTSTART:20240101T000000
END:STANDARD
END:VTIMEZONE
BEGIN:VTIMEZONE
TZID:America/Chicago
BEGIN:DAYLIGHT
TZOFFSETFROM:-0600
TZOFFSETTO:-0500
TZNAME:CDT
DTSTART:20240310T080000
END:DAYLIGHT
BEGIN:STANDARD
TZOFFSETFROM:-0500
TZOFFSETTO:-0600
TZNAME:CST
DTSTART:20241103T070000
END:STANDARD
BEGIN:DAYLIGHT
TZOFFSETFROM:-0600
TZOFFSETTO:-0500
TZNAME:CDT
DTSTART:20250309T080000
END:DAYLIGHT
BEGIN:STANDARD
TZOFFSETFROM:-0500
TZOFFSETTO:-0600
TZNAME:CST
DTSTART:20251102T070000
END:STANDARD
BEGIN:DAYLIGHT
TZOFFSETFROM:-0600
TZOFFSETTO:-0500
TZNAME:CDT
DTSTART:20260308T080000
END:DAYLIGHT
BEGIN:STANDARD
TZOFFSETFROM:-0500
TZOFFSETTO:-0600
TZNAME:CST
DTSTART:20261101T070000
END:STANDARD
END:VTIMEZONE
BEGIN:VEVENT
DTSTART;TZID=UTC:20250606T180000
DTEND;TZID=UTC:20250606T210000
DTSTAMP:20260420T151158
CREATED:20250528T233932Z
LAST-MODIFIED:20250528T233937Z
UID:10000335-1749232800-1749243600@pensacolabeach.com
SUMMARY:Tyler Livingston Live Music
DESCRIPTION:Get ready to sip\, savor\, and soak up the sun at The Hideaway Beach Bar. With tropical cocktails\, beachy bites\, and laid-back island vibes\, The Hideaway is your go-to spot for good times\, strong tides\, and stronger drinks. Stay tuned—paradise is just around the corner! \nFeatured Band:\nTyler Livingston \nVisit us at hideawaybeachbar.com today for more information.
URL:https://pensacolabeach.com/pensacola-event/tyler-livingston-live-music/
LOCATION:The Hideaway Beach Bar\, 400 Quietwater Beach Road\, Pensacola Beach\, FL\, 32561\, United States
CATEGORIES:Events
ATTACH;FMTTYPE=image/jpeg:https://pensacolabeach.com/wp-content/uploads/2025/05/7479d1c8-50a4-4739-9f64-343220058fd3.jpg
END:VEVENT
BEGIN:VEVENT
DTSTART;TZID=America/Chicago:20250606T180500
DTEND;TZID=America/Chicago:20250606T210500
DTSTAMP:20260420T151159
CREATED:20250528T234425Z
LAST-MODIFIED:20250528T234425Z
UID:10000339-1749233100-1749243900@pensacolabeach.com
SUMMARY:ECEF NIGHT AT THE WAHOOS!
DESCRIPTION:Join ECEF at Pensacola Blue Wahoo vs. Clingstones Game at Blue Wahoo Stadium.\n\n\nJoin ECEF at Pensacola Blue Wahoo vs. Clingstones Game at Blue Wahoo Stadium.  \nTickets are $5 per person(plus processing fees) and all special needs are welcome! After sale ends May 30th we will email you your tickets to the email you provided. Please ensure you have printed copies or digital tickets prior to arrival. \nI f you need wheelchair seating please private message on Facebook before purchasing tickets\, there are limited wheelchair seating available.
URL:https://pensacolabeach.com/pensacola-event/ecef-night-at-the-wahoos/
LOCATION:Blue Wahoos Stadium featuring Admiral Fetterman Field – Home of the Pensacola Blue Wahoos\, 351 West Cedar Street\, Pensacola\, FL\, 32502\, United States
ATTACH;FMTTYPE=image/jpeg:https://pensacolabeach.com/wp-content/uploads/2025/05/5989123be2d93cd2ed6e3e8bad3896fb.jpg
END:VEVENT
BEGIN:VEVENT
DTSTART;TZID=America/Chicago:20250606T200000
DTEND;TZID=America/Chicago:20250607T010000
DTSTAMP:20260420T151159
CREATED:20250528T235318Z
LAST-MODIFIED:20250528T235318Z
UID:10000345-1749240000-1749258000@pensacolabeach.com
SUMMARY:Quackson & So Sus - Goons Tour - Pensacola Beach
DESCRIPTION:Quackson & So Sus are hitting the stage at Laguna’s on June 6th! Doors 8PM – (Must be 18+)\n\n\nJackson Wells\, aka Quackson\, is a DJ and music producer hailing from Seattle\, WA. Making a name for himself early in his career\, he was named a leader of the midtempo genre by Noiseporn in 2018 and one of the “Top 40 Artists to Watch” by YourEDM in 2019.In 2022\, Quackson posted a clip of his remix of “Life and Death”\, which garnered the attention of REZZ and her fans alike\, and has been a staple in her sets ever since. In 2023\, Quackson released his collaboration with REZZ and Wreckno “Gyrate” on REZZ’s label Hypnovizion\, which has amassed critical acclaim and found it’s way to Billboard’s Dance Charts. Since the release of Gyrate\, Quackson has continued to work with Hypnovizion\, releasing major collabs with EDDIE and 1788-L in 2024.Throughout his career\, Quackson has worked with labels like Bassrush\, Ophelia\, Space Yacht\, Jadu Dala\, Dim Mak\, and Alter/Ego. He’s also garnered support from artists like Deathpact\, Excision\, Blanke\, LSDREAM\, and his music has caught the attention of some of the biggest names in bass music.
URL:https://pensacolabeach.com/pensacola-event/quackson-so-sus-goons-tour-pensacola-beach/
LOCATION:Laguna’s Beach Bar + Grill\, 460 Pensacola Beach Boulevard\, Pensacola Beach\, FL\, 32561\, United States
ATTACH;FMTTYPE=image/jpeg:https://pensacolabeach.com/wp-content/uploads/2025/05/551e62dac93814ac33d5cc4247860eeb.jpg
END:VEVENT
END:VCALENDAR