BEGIN:VCALENDAR
VERSION:2.0
PRODID:-//PensacolaBeach.com - ECPv6.15.20//NONSGML v1.0//EN
CALSCALE:GREGORIAN
METHOD:PUBLISH
X-ORIGINAL-URL:https://pensacolabeach.com
X-WR-CALDESC:Events for PensacolaBeach.com
REFRESH-INTERVAL;VALUE=DURATION:PT1H
X-Robots-Tag:noindex
X-PUBLISHED-TTL:PT1H
BEGIN:VTIMEZONE
TZID:America/Los_Angeles
BEGIN:DAYLIGHT
TZOFFSETFROM:-0800
TZOFFSETTO:-0700
TZNAME:PDT
DTSTART:20240310T100000
END:DAYLIGHT
BEGIN:STANDARD
TZOFFSETFROM:-0700
TZOFFSETTO:-0800
TZNAME:PST
DTSTART:20241103T090000
END:STANDARD
BEGIN:DAYLIGHT
TZOFFSETFROM:-0800
TZOFFSETTO:-0700
TZNAME:PDT
DTSTART:20250309T100000
END:DAYLIGHT
BEGIN:STANDARD
TZOFFSETFROM:-0700
TZOFFSETTO:-0800
TZNAME:PST
DTSTART:20251102T090000
END:STANDARD
BEGIN:DAYLIGHT
TZOFFSETFROM:-0800
TZOFFSETTO:-0700
TZNAME:PDT
DTSTART:20260308T100000
END:DAYLIGHT
BEGIN:STANDARD
TZOFFSETFROM:-0700
TZOFFSETTO:-0800
TZNAME:PST
DTSTART:20261101T090000
END:STANDARD
END:VTIMEZONE
BEGIN:VEVENT
DTSTART;TZID=America/Los_Angeles:20250624T160000
DTEND;TZID=America/Los_Angeles:20250624T170000
DTSTAMP:20260420T151240
CREATED:20250528T235525Z
LAST-MODIFIED:20250528T235525Z
UID:10000348-1750780800-1750784400@pensacolabeach.com
SUMMARY:Grief Support Group
DESCRIPTION:Join a compassionate and supportive weekly circle dedicated to those navigating the difficult journey of grief.\n\n\nCome together to support each other through grief and loss. This group allows you to show up where you are in your grieving process to heal and connect with others who understand. \n \nSession Goals & Outcomes: \n\nConnect with others facing similar challenges and work together to overcome them.\nGain valuable tools\, strategies\, and insights from the group’s collective wisdom.\nBuild a supportive network that cheers you on as you navigate your challenges.\n\nSee more support groups on the ShareWell website.
URL:https://pensacolabeach.com/pensacola-event/grief-support-group/
LOCATION:FL
ATTACH;FMTTYPE=image/jpeg:https://pensacolabeach.com/wp-content/uploads/2025/05/dc17c0073ae79021932c73fc03209744.jpg
END:VEVENT
END:VCALENDAR