BEGIN:VCALENDAR
VERSION:2.0
PRODID:-//PensacolaBeach.com - ECPv6.15.20//NONSGML v1.0//EN
CALSCALE:GREGORIAN
METHOD:PUBLISH
X-WR-CALNAME:PensacolaBeach.com
X-ORIGINAL-URL:https://pensacolabeach.com
X-WR-CALDESC:Events for PensacolaBeach.com
REFRESH-INTERVAL;VALUE=DURATION:PT1H
X-Robots-Tag:noindex
X-PUBLISHED-TTL:PT1H
BEGIN:VTIMEZONE
TZID:America/Chicago
BEGIN:DAYLIGHT
TZOFFSETFROM:-0600
TZOFFSETTO:-0500
TZNAME:CDT
DTSTART:20230312T080000
END:DAYLIGHT
BEGIN:STANDARD
TZOFFSETFROM:-0500
TZOFFSETTO:-0600
TZNAME:CST
DTSTART:20231105T070000
END:STANDARD
BEGIN:DAYLIGHT
TZOFFSETFROM:-0600
TZOFFSETTO:-0500
TZNAME:CDT
DTSTART:20240310T080000
END:DAYLIGHT
BEGIN:STANDARD
TZOFFSETFROM:-0500
TZOFFSETTO:-0600
TZNAME:CST
DTSTART:20241103T070000
END:STANDARD
BEGIN:DAYLIGHT
TZOFFSETFROM:-0600
TZOFFSETTO:-0500
TZNAME:CDT
DTSTART:20250309T080000
END:DAYLIGHT
BEGIN:STANDARD
TZOFFSETFROM:-0500
TZOFFSETTO:-0600
TZNAME:CST
DTSTART:20251102T070000
END:STANDARD
END:VTIMEZONE
BEGIN:VEVENT
DTSTART;TZID=America/Chicago:20241004T200000
DTEND;TZID=America/Chicago:20241004T235900
DTSTAMP:20260423T171501
CREATED:20241002T021357Z
LAST-MODIFIED:20241002T021357Z
UID:10000121-1728072000-1728086340@pensacolabeach.com
SUMMARY:Fairy Fest Dance Party
DESCRIPTION:Enchanted Fairy Fest Dance Party!\nJoin us for an unforgettable night at the Fairy Fest Dance Party! Immerse yourself in magic!\n\n\n🌟 Enchanted Fairy Fest Dance Party! 🌟 \n \nCalling all Fairies\, Nymphs\, and Woodland Creatures of the Night! \nJoin us for an unforgettable night at the Fairy Fest Dance Party! Immerse yourself in a magical atmosphere filled with twinkling lights\, whimsical decorations\, and vibrant music that will make you dance like no one’s watching! \n \n✨ What to Expect: \n \nLive DJ spinning enchanting beats all night \nFairy-themed costume contest with amazing prizes \nPhoto booths for capturing magical moments \nGlow-in-the-dark decorations and fairy lights \nSpecial performances that will dazzle and delight \nNO REFUNDS BUT you can give to a friend or hold on to your ticket for our next event. Upcoming Events are Gothic Winters Eve Dec21\, Fairy Spring Fling March 8th\, and Vampire Ball 2025 October 4
URL:https://pensacolabeach.com/pensacola-event/fairy-fest-dance-party/
LOCATION:Court Of De Luna\, 116 East Gonzalez Street\, Pensacola\, FL\, 32501\, United States
ATTACH;FMTTYPE=image/jpeg:https://pensacolabeach.com/wp-content/uploads/2024/10/6bf583c4d1a0ed7ab838ddc7db3aee43.jpg
END:VEVENT
BEGIN:VEVENT
DTSTART;TZID=America/Chicago:20241004T180000
DTEND;TZID=America/Chicago:20241004T210000
DTSTAMP:20260423T171501
CREATED:20241002T021237Z
LAST-MODIFIED:20241002T021237Z
UID:10000120-1728064800-1728075600@pensacolabeach.com
SUMMARY:Taste of Gulf Breeze 2024
DESCRIPTION:Taste of Gulf Breeze is an exciting\, competitive\, culinary adventure!  Sample all that the Gulf Breeze Area has to offer!\n\n\nTaste of Gulf Breeze\, or “Taste” as we like to call it\, is an annual food festival hosted by the Gulf Breeze Area Chamber of Commerce. At Taste\, you’ll have the opportunity to sample from local restaurants\, bars\, caterers\, bakeries\, food trucks\, and businesses! Our event features 50+  unique vendors handing out bite-sized samples of their menus and products for your party to try. \nIn addition to more food than is probably healthy to eat in one evening\, you can enjoy dancing to tunes from a live DJ plus special live performances! \nThis event is 21+ only with 100% I.D. check at the door. \nGeneral Admission begins at 6 pm and the party lasts until 9! \n \nYOU get to choose who wins the Golden Spatula Awards! \nEach vendor will be competing for the coveted Golden Spatula Awards! After you sample from each booth\, vote for your favorite appetizer\, beverage\, and dessert! You’ll receive 3 color-coded chips upon check-in to place your votes on who you think should win. \n \nTwo Ticket Options Available \nVIP EXPERIENCE \nA limited number of VIP tickets will be sold. VIP tickets include access to special VIP hour from 5pm-6pm\, VIP room with seating and complimentary beer & wine \nVIP Tickets – $50 each (plus applicable online fees) \nGENERAL ADMISSION \nGeneral admission entry includes entry to the event beginning at 6pm and access to all main areas of event including tasting from all food vendors. \nGeneral Admission Tickets – $20 early-bird (July 1-Jul 31) ; $25 regular (Aug 1-Sept 27) ; $35 last week (Sept 27-Oct 4) \n(plus applicable online fees)
URL:https://pensacolabeach.com/pensacola-event/taste-of-gulf-breeze-2024/
LOCATION:Gulf Breeze Community Center\, 800 Shoreline Drive\, Gulf Breeze\, FL\, 32561\, United States
ATTACH;FMTTYPE=image/jpeg:https://pensacolabeach.com/wp-content/uploads/2024/10/115da8af0402231812ad916abbdd6bc3.jpg
END:VEVENT
BEGIN:VEVENT
DTSTART;TZID=America/Chicago:20241004T170000
DTEND;TZID=America/Chicago:20241004T200000
DTSTAMP:20260423T171501
CREATED:20241001T234419Z
LAST-MODIFIED:20241001T234419Z
UID:10000003-1728061200-1728072000@pensacolabeach.com
SUMMARY:18th Annual Pumpkin Patch: First Pick Preview Party
DESCRIPTION:Friday\, October 4th\, 2024  5 – 8 p.m.\nGuests will have the first glance at over 4\,500 handcrafted glass and ceramic pumpkins – sales limited\n\n\nFriday\, October 4th\, 2024 5 – 8 p.m.\nGuests will have the first glance at over 4\,500 handcrafted glass and ceramic pumpkins! Sales will be limited at this exclusive event. \nThe First Pick Preview Party includes beer & wine from our friends at Pensacola Bay Brewery (2 drink tickets per ticket purchase for those 21+)\, refreshments\, music\, art demonstrations\, and of course – the opportunity to be the first to purchase your pumpkins! \nFCAC Annual Pumpkin Patch is a signature event for Pensacola\, and is the only Pumpkin Patch benefiting non-profit First City Art Center as an important cultural asset for the community. Pumpkin Patch allows FCAC to operate as a creative home for artists from all over the community! \nThe Pumpkin Crop\nThese unique pumpkins hand-made by members of FCAC’s glass and pottery guilds come in all shapes\, colors and sizes. Prices for glass and ceramic pumpkins begin at $20. \nGuests are entitled to purchase 2 pumpkins with their First Pick Preview Party ticket – guests will have the opportunity to purchase up to 2 additional pumpkins with a single $15 donation to FCAC. \nLimited Tickets will be Available\nMember and Non-member tickets will be available for presale online until 10/3/2024. There will be a limited number of tickets sold. Only members will be allowed to purchase tickets at the gate on Friday\, October 4th. First Pick Preview Party Tickets can be purchased ONLINE prior to the event. \nMembers Enter Early\nFirst City Art Center members enter first at 5 p.m. for the Preview Party! Become a member for early admission. \nNon-member entry begins at 5:30 p.m. \nTickets\nFCAC Member Price: $ 35 \nNon-Member Price: $ 40 \nChildren under 12- FREE admission (full price ticket required to purchase pumpkins) \nPreview Party Ticket does not include a pumpkin. Ticket includes the opportunity to purchase 2 pumpkins plus enjoy (2) complimentary beers or wine (21+) \nGuests have the opportunity to purchase up to 2 additional pumpkins with a single $15 donation to FCAC \nRain or Shine Event. No Refunds will be offered. \nSaturday General Admission Pumpkin Patch Sale\nSaturday\, October 5th\, 2024 10am-2pm \nFREE Admission on Saturday – unlimited pumpkin sales!
URL:https://pensacolabeach.com/pensacola-event/18th-annual-pumpkin-patch-first-pick-preview-party/
LOCATION:First City Art Center\, 1060 N. Guillemard St.\, Pensacola\, FL\, 32501\, United States
ATTACH;FMTTYPE=image/jpeg:https://pensacolabeach.com/wp-content/uploads/2024/10/405aaf04163a9bdcc9d708064a8c8202.jpg
END:VEVENT
BEGIN:VEVENT
DTSTART;TZID=America/Chicago:20241004T140000
DTEND;TZID=America/Chicago:20241004T160000
DTSTAMP:20260423T171501
CREATED:20241002T015816Z
LAST-MODIFIED:20241002T015816Z
UID:10000075-1728050400-1728057600@pensacolabeach.com
SUMMARY:Pensacola Beach Prowl Scavenger Hunt
DESCRIPTION:Pensacola Beach Prowl Scavenger Hunt
URL:https://pensacolabeach.com/pensacola-event/pensacola-beach-prowl-scavenger-hunt-7/
LOCATION:Pensacola Beach Boardwalk\, 400 Quietwater Beach Road\, Pensaola beach\, FL\, 32561\, United States
ATTACH;FMTTYPE=image/jpeg:https://pensacolabeach.com/wp-content/uploads/2024/10/d62166e341c4e6b1a9d6878bf1b2eed6.jpg
END:VEVENT
BEGIN:VEVENT
DTSTART;TZID=America/Chicago:20241003T173000
DTEND;TZID=America/Chicago:20241003T193000
DTSTAMP:20260423T171501
CREATED:20241002T020028Z
LAST-MODIFIED:20241002T020028Z
UID:10000119-1727976600-1727983800@pensacolabeach.com
SUMMARY:Live\, Learn\, Laser: Fall Open House at The Skin Care Center
DESCRIPTION:Join us for an exclusive Fall Open House event\, “Live\, Learn\, Laser\,” at The Skin Care Center!\n\n\nEvent Description:Join us for our “Live\, Learn\, Laser\,” Fall Open House event\, at The Skin Care Center! Fall is the perfect time to focus on your skin\, and we’re here to help you achieve your best look with our cutting-edge laser treatments. \nWhat to Expect: \n\n$15\,000 in Giveaways\nExclusive Discounts: Special pricing on laser packages for attendees.\nGift Bags\nFree Cosmetic Surgery Consultations: Meet with one of our Board Certified Plastic Surgeons for a complimentary consultation. ($100 value)\nA portion of all proceeds from the night will be donated to Pensacola’s Making Strides Against Breast Cancer. Join us in supporting this important cause.\n\nReservation Details:A $25 reservation fee is required via Eventbrite\, which will go towards any purchase you make during the event. Secure your spot today!
URL:https://pensacolabeach.com/pensacola-event/live-learn-laser-fall-open-house-at-the-skin-care-center/
LOCATION:540 Brent Ln\, 540 Brent Lane\, Pensacola\, FL\, 32503\, United States
ATTACH;FMTTYPE=image/jpeg:https://pensacolabeach.com/wp-content/uploads/2024/10/7e2a696cad3c8a48994ca13bd77cfe59.jpg
END:VEVENT
BEGIN:VEVENT
DTSTART;TZID=America/Chicago:20241003T140000
DTEND;TZID=America/Chicago:20241003T160000
DTSTAMP:20260423T171501
CREATED:20241002T015815Z
LAST-MODIFIED:20241002T015815Z
UID:10000073-1727964000-1727971200@pensacolabeach.com
SUMMARY:Pensacola Beach Prowl Scavenger Hunt
DESCRIPTION:Pensacola Beach Prowl Scavenger Hunt
URL:https://pensacolabeach.com/pensacola-event/pensacola-beach-prowl-scavenger-hunt-5/
LOCATION:Pensacola Beach Boardwalk\, 400 Quietwater Beach Road\, Pensaola beach\, FL\, 32561\, United States
ATTACH;FMTTYPE=image/jpeg:https://pensacolabeach.com/wp-content/uploads/2024/10/d62166e341c4e6b1a9d6878bf1b2eed6.jpg
END:VEVENT
BEGIN:VEVENT
DTSTART;TZID=America/Chicago:20241002T190000
DTEND;TZID=America/Chicago:20241002T220000
DTSTAMP:20260423T171501
CREATED:20241002T174337Z
LAST-MODIFIED:20241002T174337Z
UID:10000124-1727895600-1727906400@pensacolabeach.com
SUMMARY:Open Mic ~ Music ~ Poetry ~ Hip Hop ~ Jazz ~ Vendors Needed Wanted
DESCRIPTION:Enjoy The Show From The Comfort Of Your Home!
URL:https://pensacolabeach.com/pensacola-event/open-mic-music-poetry-hip-hop-jazz-vendors-needed-wanted/
LOCATION:Navarre\, Navarre\, Navarre\, FL\, 32566\, United States
ATTACH;FMTTYPE=image/jpeg:https://pensacolabeach.com/wp-content/uploads/2024/10/0c4a7ef6789c5ad7bc09b5d5615d6cff.jpg
END:VEVENT
BEGIN:VEVENT
DTSTART;TZID=America/Chicago:20241002T190000
DTEND;TZID=America/Chicago:20241002T200000
DTSTAMP:20260423T171501
CREATED:20241002T174637Z
LAST-MODIFIED:20241002T174637Z
UID:10000129-1727895600-1727899200@pensacolabeach.com
SUMMARY:Trauma + the Nervous System
DESCRIPTION:Unlock the secrets of how trauma affects your nervous system and discover practical tools for healing and resilience.\n\n\nTrauma + the Nervous System \nJoin us for an enlightening event focused on understanding the impact of trauma on the nervous system. Experts in the field will delve into the complexities of how trauma affects our mental and physical well-being. Gain valuable insights and practical tools to help navigate the effects of trauma on the body and mind. Don’t miss out on this opportunity to deepen your understanding of trauma and its connection to the nervous system! \nLocation: Cela Fitness Society
URL:https://pensacolabeach.com/pensacola-event/trauma-the-nervous-system/
LOCATION:Cela Fitness Society\, 5054 U.S. 90\, Pace\, FL\, 32571\, United States
ATTACH;FMTTYPE=image/jpeg:https://pensacolabeach.com/wp-content/uploads/2024/10/1301b1ee59929f3c8616b5e2e5912115.jpg
END:VEVENT
BEGIN:VEVENT
DTSTART;TZID=America/Chicago:20241002T140000
DTEND;TZID=America/Chicago:20241002T160000
DTSTAMP:20260423T171501
CREATED:20241002T015815Z
LAST-MODIFIED:20241002T015815Z
UID:10000071-1727877600-1727884800@pensacolabeach.com
SUMMARY:Pensacola Beach Prowl Scavenger Hunt
DESCRIPTION:Pensacola Beach Prowl Scavenger Hunt
URL:https://pensacolabeach.com/pensacola-event/pensacola-beach-prowl-scavenger-hunt-3/
LOCATION:Pensacola Beach Boardwalk\, 400 Quietwater Beach Road\, Pensaola beach\, FL\, 32561\, United States
ATTACH;FMTTYPE=image/jpeg:https://pensacolabeach.com/wp-content/uploads/2024/10/d62166e341c4e6b1a9d6878bf1b2eed6.jpg
END:VEVENT
END:VCALENDAR