BEGIN:VCALENDAR
VERSION:2.0
PRODID:-//PensacolaBeach.com - ECPv6.15.20//NONSGML v1.0//EN
CALSCALE:GREGORIAN
METHOD:PUBLISH
X-WR-CALNAME:PensacolaBeach.com
X-ORIGINAL-URL:https://pensacolabeach.com
X-WR-CALDESC:Events for PensacolaBeach.com
REFRESH-INTERVAL;VALUE=DURATION:PT1H
X-Robots-Tag:noindex
X-PUBLISHED-TTL:PT1H
BEGIN:VTIMEZONE
TZID:America/Chicago
BEGIN:DAYLIGHT
TZOFFSETFROM:-0600
TZOFFSETTO:-0500
TZNAME:CDT
DTSTART:20240310T080000
END:DAYLIGHT
BEGIN:STANDARD
TZOFFSETFROM:-0500
TZOFFSETTO:-0600
TZNAME:CST
DTSTART:20241103T070000
END:STANDARD
BEGIN:DAYLIGHT
TZOFFSETFROM:-0600
TZOFFSETTO:-0500
TZNAME:CDT
DTSTART:20250309T080000
END:DAYLIGHT
BEGIN:STANDARD
TZOFFSETFROM:-0500
TZOFFSETTO:-0600
TZNAME:CST
DTSTART:20251102T070000
END:STANDARD
BEGIN:DAYLIGHT
TZOFFSETFROM:-0600
TZOFFSETTO:-0500
TZNAME:CDT
DTSTART:20260308T080000
END:DAYLIGHT
BEGIN:STANDARD
TZOFFSETFROM:-0500
TZOFFSETTO:-0600
TZNAME:CST
DTSTART:20261101T070000
END:STANDARD
END:VTIMEZONE
BEGIN:VTIMEZONE
TZID:America/New_York
BEGIN:DAYLIGHT
TZOFFSETFROM:-0500
TZOFFSETTO:-0400
TZNAME:EDT
DTSTART:20240310T070000
END:DAYLIGHT
BEGIN:STANDARD
TZOFFSETFROM:-0400
TZOFFSETTO:-0500
TZNAME:EST
DTSTART:20241103T060000
END:STANDARD
BEGIN:DAYLIGHT
TZOFFSETFROM:-0500
TZOFFSETTO:-0400
TZNAME:EDT
DTSTART:20250309T070000
END:DAYLIGHT
BEGIN:STANDARD
TZOFFSETFROM:-0400
TZOFFSETTO:-0500
TZNAME:EST
DTSTART:20251102T060000
END:STANDARD
BEGIN:DAYLIGHT
TZOFFSETFROM:-0500
TZOFFSETTO:-0400
TZNAME:EDT
DTSTART:20260308T070000
END:DAYLIGHT
BEGIN:STANDARD
TZOFFSETFROM:-0400
TZOFFSETTO:-0500
TZNAME:EST
DTSTART:20261101T060000
END:STANDARD
END:VTIMEZONE
BEGIN:VEVENT
DTSTART;TZID=America/Chicago:20250401T080000
DTEND;TZID=America/Chicago:20250401T160000
DTSTAMP:20260420T134004
CREATED:20250227T223843Z
LAST-MODIFIED:20250227T223843Z
UID:10000306-1743494400-1743523200@pensacolabeach.com
SUMMARY:Interview Skills for Career Changers 1 Day Workshop in Pensacola\, FL
DESCRIPTION:Get ready to ace interviews and land your dream job at our 1-day workshop.
URL:https://pensacolabeach.com/pensacola-event/interview-skills-for-career-changers-1-day-workshop-in-pensacola-fl-3/
LOCATION:For venue details\, reach us at info@mangates.com or call us at +1 469 666 9332\, Pensacola\, FL\, Pensacola\, FL\, 32503\, United States
ATTACH;FMTTYPE=image/jpeg:https://pensacolabeach.com/wp-content/uploads/2025/02/0c1a75a6ee71dffc1ebf3900d6807469.jpg
END:VEVENT
BEGIN:VEVENT
DTSTART;TZID=America/Chicago:20250404T190000
DTEND;TZID=America/Chicago:20250404T233000
DTSTAMP:20260420T134004
CREATED:20250227T222213Z
LAST-MODIFIED:20250227T222213Z
UID:10000284-1743793200-1743809400@pensacolabeach.com
SUMMARY:Uncle Kracker Live In Concert
DESCRIPTION:Uncle Kracker Live In Concert
URL:https://pensacolabeach.com/pensacola-event/uncle-kracker-live-in-concert/
LOCATION:Wild Greg’s Saloon\, 22 South Palafox Street\, Pensacola\, FL\, 32502\, United States
ATTACH;FMTTYPE=image/jpeg:https://pensacolabeach.com/wp-content/uploads/2025/02/5a0e9783d273223b0365b11af4259e04.jpg
END:VEVENT
BEGIN:VEVENT
DTSTART;TZID=America/Chicago:20250405T180000
DTEND;TZID=America/Chicago:20250405T210000
DTSTAMP:20260420T134004
CREATED:20250102T234157Z
LAST-MODIFIED:20250227T224415Z
UID:10000203-1743876000-1743886800@pensacolabeach.com
SUMMARY:Dinner Detective Interactive True Crime Dinner Show!
DESCRIPTION:America’s Largest Interactive True Crime Dinner Show!
URL:https://pensacolabeach.com/pensacola-event/dinner-detective-interactive-true-crime-dinner-show-7/
LOCATION:8 S 9th Ave\, 8 South 9th Avenue\, Pensacola\, FL\, 32502\, United States
ATTACH;FMTTYPE=image/jpeg:https://pensacolabeach.com/wp-content/uploads/2025/01/a06ac0ebba1708ce4bfbd5f08173e20e.jpg
END:VEVENT
BEGIN:VEVENT
DTSTART;TZID=America/New_York:20250410T164500
DTEND;TZID=America/New_York:20250410T193000
DTSTAMP:20260420T134004
CREATED:20250319T184748Z
LAST-MODIFIED:20250319T184748Z
UID:10000317-1744303500-1744313400@pensacolabeach.com
SUMMARY:VOICES OF THE VILLAGE present “Bridging the Gap\, Reconnecting Boundaries ” – a Story Slam Event
DESCRIPTION:The Equity Project Alliance’s VOICES OF THE VILLAGE present “Bridging the Gap\, Reconnecting Boundaries ” – a Story Slam Event \n“Bridging the Gap\, Reconnecting Boundaries ” is about reconnecting with the past while forging new paths. As we reflect on those moments that helped shape who we are becoming\, it is important to think about where we have been and the people\, places and experiences that brought us to where we are. \nThis is your time to share your journey of adapting to change\, forging new paths\, and sharing your journey of growth through the years. The mike is yours for six (6) minutes to share your own powerful story. \nBe among the first to sign up\, either to speak (the application is attached) or to enjoy the stories of others as they share their how they’ve bridged the gap and made new connections. \nReserve your tickets here: Reserve Your Tickets Here.
URL:https://pensacolabeach.com/pensacola-event/voices-of-the-village-present-bridging-the-gap-reconnecting-boundaries-a-story-slam-event/
LOCATION:From the Ground Up Garden\, 300 E La Rua St\, Pensacola\, FL\, 32501\, United States
CATEGORIES:EPA Events
ATTACH;FMTTYPE=image/png:https://pensacolabeach.com/wp-content/uploads/2025/03/Story-Slam-Flyer-2-sbKPz5.tmp_.png
ORGANIZER;CN="Equity Project Alliance":MAILTO:lusharon@equityprojectalliance.com
END:VEVENT
BEGIN:VEVENT
DTSTART;TZID=America/Chicago:20250410T190000
DTEND;TZID=America/Chicago:20250410T213000
DTSTAMP:20260420T134004
CREATED:20250227T224150Z
LAST-MODIFIED:20250227T224150Z
UID:10000315-1744311600-1744320600@pensacolabeach.com
SUMMARY:Comic Con Killer murder mystery at Level Up Gaming
DESCRIPTION:YOU become the detective in this interactive murder mystery show celebrating all things FANDOM! Cosplay contest included in this show!\n\n\nLEVEL UP GAMING and ICMT GULF COAST are teaming up to bring you a totally new interactive game experience at LEVEL UP GAMING!  \nYOU become the detective in this interactive murder mystery show where you interrogate suspects\, analyze evidence and use YOUR powers of observation to bring a killer to justice!   \nCOST $25  \nFood is available for purchase from food truck’s available onsite. Drinks are available from vending machines inside LUG  \n \nPlot\nThis fun show takes place during the VIP sponsors dinner for RadCon\, a comic/gaming convention (similar to Pensacon). Com characters The Geek – a word famous comic book collector and boy genius)\, Kitty Katz – an “intellectually challenged” cosplayer\, Jane Conrad – an intellectually gifted fan girl\, Burk Bently – a failed actor stuck in his role of Starship Captain\, and Kevin Conrad – the CEO of RadCon will entertain you throughout this who done it set in the fun world of geekdom and cosplay. \nWhen bad things happen\, as they inevitably do… enter ICMT’s very own Detective Gunn who will help YOU solve the murder. \nAudiences are encouraged to participate in our cosplay contest included in this show. \nThis 90-120minute show promises plenty of laughs as well as give you an opportunity to really test out your sleuthing skills as you try to figure out this CONfounding murder. \n**** \nTreat yourself to a gaming experience like no other. Work as a team with your friends – or pit your wits against each other as you sleuth your way though the mystery! \nThis show features actors in a live\, interactive\, and comedic experience with audience members as they work to solve the “murder” through physical clues\, spoken dialogue\, and inferred character motives. \nThere are no dress code or age restrictions\, but we do encourage you dress up as YOUR favorite fandom and participate in our COSPLAY CONTEST at this show! \nDoors open at 6:30pm for seating and mingling with guests and characters\, with show scheduled to start at approximately 7:00pm. \nFor any additional questions – please contact ICMT Gulf Coast owner: Nicole Dickson at icmtheatre@gmail.comor (850)207-711
URL:https://pensacolabeach.com/pensacola-event/comic-con-killer-murder-mystery-at-level-up-gaming/
LOCATION:Level Up Gaming\, 1132 Creighton Road\, Pensacola\, FL\, 32504\, United States
ATTACH;FMTTYPE=image/jpeg:https://pensacolabeach.com/wp-content/uploads/2025/02/cc05511f1137049a0bd34be7380e3f0e.jpg
END:VEVENT
BEGIN:VEVENT
DTSTART;TZID=America/Chicago:20250412T120000
DTEND;TZID=America/Chicago:20250412T180000
DTSTAMP:20260420T134004
CREATED:20250227T222900Z
LAST-MODIFIED:20250227T222900Z
UID:10000296-1744459200-1744480800@pensacolabeach.com
SUMMARY:Kustoms And Curves
DESCRIPTION:Come join the Hell-Bent Hoods for a 30 year Birthday Celebration at Warrior Beer Co. – for a day of Cars\, Bikes\, Music and Babes.\n\n\nKustoms And Curves Car Show \nCelebrating 30 Years of the Hell-Bent Hoods Car Club! \nSave the Date: Saturday\, April 12\, 2025 \nPre-Register Via Eventbrite – $20 per vehicle (bike or car) \nDay of Registration Via Eventbrite OR in Person until 12p.m. day of-$25 per vehicle (bike or car) \nTime: Event runs 12:00 PM – 6:00 PM \nLocation: Warrior Beer Company10605 Sorroto Rd\, Pensacola\, FL \nWhat to Expect:Choppers\, Bobbers\, Kustoms\, Classics\, Hot Rods\, Lowriders\, Slabs\, Muscle\, Verts – All makes and models welcome! \nClub Choice Awards! \nKustoms & Curves Pin-Up Contest – 3pm  \nLive Music by Gretsch Lyles\, The Modern Eldorados\, and More – Rocking the day away! \nLucy’s Retro Boutique – Vintage clothing\, pin-up fashion consultations\, and pop-up shop! \nTattoo Contest – Show off your ink and compete for bragging rights and a gift  card!  \nSwap Meet – Buy\, sell\, and trade vintage and automotive treasures amongst yourselves and local vendors. \nFor More Info:Hellbenthoods@gmail.com
URL:https://pensacolabeach.com/pensacola-event/kustoms-and-curves/
LOCATION:Warrior Beer Company\, 10605 Sorrento Road\, Pensacola\, FL\, 32507\, United States
ATTACH;FMTTYPE=image/jpeg:https://pensacolabeach.com/wp-content/uploads/2025/02/34eec1e9f2363557cd7260679d0e3dda.jpg
END:VEVENT
BEGIN:VEVENT
DTSTART;TZID=America/Chicago:20250419T180000
DTEND;TZID=America/Chicago:20250419T210000
DTSTAMP:20260420T134004
CREATED:20250102T234157Z
LAST-MODIFIED:20250227T224415Z
UID:10000204-1745085600-1745096400@pensacolabeach.com
SUMMARY:Dinner Detective Interactive True Crime Dinner Show!
DESCRIPTION:America’s Largest Interactive True Crime Dinner Show!
URL:https://pensacolabeach.com/pensacola-event/dinner-detective-interactive-true-crime-dinner-show-8/
LOCATION:8 S 9th Ave\, 8 South 9th Avenue\, Pensacola\, FL\, 32502\, United States
ATTACH;FMTTYPE=image/jpeg:https://pensacolabeach.com/wp-content/uploads/2025/01/a06ac0ebba1708ce4bfbd5f08173e20e.jpg
END:VEVENT
BEGIN:VEVENT
DTSTART;TZID=America/New_York:20250422T173000
DTEND;TZID=America/New_York:20250422T193000
DTSTAMP:20260420T134004
CREATED:20250319T184821Z
LAST-MODIFIED:20250319T184821Z
UID:10000318-1745343000-1745350200@pensacolabeach.com
SUMMARY:The EPA Invites You to the Annual Data Walk – Save the Date
DESCRIPTION:Dinner\, Date Review and Conversation… \n			\n				\n				\n				\n				\n				The Equity Project Alliance\, in partnership with Achieve Escambia\, the Greater Pensacola Chamber of Commerce\, Pensacola Young Professionals and the Gulf Coast Minority Chamber of Commerce\, is continuing the conversation on its most popular dinner topic – the Statistical Data Walk. \nThe data has been updated and covers such areas as housing and homelessness\, income and employment\, health\, school readiness and more. The panelists are phenomenal! \nJoin the conversation\, learn more\, explore the data and engage in transformative thinking at the next Dinner of Change on April 22\, 2025 at Greater Little Rock Baptist Church. More information to follow. \nWe look forward to seeing you there!
URL:https://pensacolabeach.com/pensacola-event/the-epa-invites-you-to-the-annual-data-walk-save-the-date/
LOCATION:Greater Little Rock Baptist Church\, 901 N A St\, Pensacola\, FL\, 32501\, United States
CATEGORIES:EPA Events
ATTACH;FMTTYPE=image/png:https://pensacolabeach.com/wp-content/uploads/2025/03/Dinner-of-Change-Data-Walk-Flyer-2025-CDetdD.tmp_.png
ORGANIZER;CN="Equity Project Alliance":MAILTO:lusharon@equityprojectalliance.com
END:VEVENT
END:VCALENDAR