BEGIN:VCALENDAR
VERSION:2.0
PRODID:-//PensacolaBeach.com - ECPv6.15.20//NONSGML v1.0//EN
CALSCALE:GREGORIAN
METHOD:PUBLISH
X-ORIGINAL-URL:https://pensacolabeach.com
X-WR-CALDESC:Events for PensacolaBeach.com
REFRESH-INTERVAL;VALUE=DURATION:PT1H
X-Robots-Tag:noindex
X-PUBLISHED-TTL:PT1H
BEGIN:VTIMEZONE
TZID:America/Chicago
BEGIN:DAYLIGHT
TZOFFSETFROM:-0600
TZOFFSETTO:-0500
TZNAME:CDT
DTSTART:20230312T080000
END:DAYLIGHT
BEGIN:STANDARD
TZOFFSETFROM:-0500
TZOFFSETTO:-0600
TZNAME:CST
DTSTART:20231105T070000
END:STANDARD
BEGIN:DAYLIGHT
TZOFFSETFROM:-0600
TZOFFSETTO:-0500
TZNAME:CDT
DTSTART:20240310T080000
END:DAYLIGHT
BEGIN:STANDARD
TZOFFSETFROM:-0500
TZOFFSETTO:-0600
TZNAME:CST
DTSTART:20241103T070000
END:STANDARD
BEGIN:DAYLIGHT
TZOFFSETFROM:-0600
TZOFFSETTO:-0500
TZNAME:CDT
DTSTART:20250309T080000
END:DAYLIGHT
BEGIN:STANDARD
TZOFFSETFROM:-0500
TZOFFSETTO:-0600
TZNAME:CST
DTSTART:20251102T070000
END:STANDARD
BEGIN:DAYLIGHT
TZOFFSETFROM:-0600
TZOFFSETTO:-0500
TZNAME:CDT
DTSTART:20260308T080000
END:DAYLIGHT
BEGIN:STANDARD
TZOFFSETFROM:-0500
TZOFFSETTO:-0600
TZNAME:CST
DTSTART:20261101T070000
END:STANDARD
END:VTIMEZONE
BEGIN:VEVENT
DTSTART;TZID=America/Chicago:20250209T173000
DTEND;TZID=America/Chicago:20250209T223000
DTSTAMP:20260421T234504
CREATED:20250203T202542Z
LAST-MODIFIED:20250203T202542Z
UID:10000276-1739122200-1739140200@pensacolabeach.com
SUMMARY:Super Bowl Suite Experience at DRIFT
DESCRIPTION:Join us for a Big Game experience unlike any other at DRIFT. The evening is going to be SUITE!\n\n\nJoin us for a Big Game experience unlike any other at DRIFT. The evening is going to be SUITE! Tickets are $66 per person and include a pass to enjoy the game on all of our TVs and a projector PLUS passed tailgate bites (Drift’s way). \n \nPlease note tax & fees not included. For more information about DRIFT please visit www.driftpcola.com or call (850) 733-7331 during operating hours Wednesday – Sunday after 4PM. \n \nABOUT DRIFT \nDRIFT brings modern coastal cuisine dishes to a casual open space for a unique experience. A pioneer restaurant specializing in crudos\, small plates\, seafood\, steaks\, homemade desserts\, and hand-crafted cocktails to Pensacola Beach. Voted Best Restaurant on Pensacola Beach in VIP Pensacola Magazine\, 2023. For more information and reservations\, call (850) 733-7331 or visit www.driftpcola.com. DRIFT is a Balanced Brands Hospitality Group full service bar and restaurant.
URL:https://pensacolabeach.com/pensacola-event/super-bowl-suite-experience-at-drift/
LOCATION:41 Fort Pickens Rd\, 41 Fort Pickens Road\, Pensacola Beach\, FL\, 32561\, United States
ATTACH;FMTTYPE=image/jpeg:https://pensacolabeach.com/wp-content/uploads/2025/02/f0978d3577bec87f10ab616603fcfeb7.jpg
END:VEVENT
BEGIN:VEVENT
DTSTART;TZID=America/Chicago:20241005T170000
DTEND;TZID=America/Chicago:20241005T210000
DTSTAMP:20260421T234504
CREATED:20241001T233913Z
LAST-MODIFIED:20241001T233913Z
UID:10000002-1728147600-1728162000@pensacolabeach.com
SUMMARY:Blues and Bluegrass Beach Bash
DESCRIPTION:Casino Beach Bar & Grille presents BLUES & BLUEGRASS BEACH BASH\, a Pensacola Beach Songwriters Festival Special Event. Featuring Grammy awar\n\n\nCasino Beach Bar & Grille presents BLUES & BLUEGRASS BEACH BASH\, a Pensacola Beach Songwriters Festival Special Event. Featuring Grammy award-winning Bluegrass stars\, and National Blues Artists.  \n \nFeaturing:  \nRonnie Bowman: Grammy award winner & IBMA (International Bluegrass Music Awards) Male Vocalist of the Year three times\, has twice earned the IBMA Song of the Year and Gospel Performance of the Year.   As a songwriter- #1 cuts by Brooks & Dunn\, Kenny Chesney\, & Chris Stapleton ACM Song of the Year.   \n \nBilly Droze: Multi Grammy-nominated with eleven #1 radio singles. He’s the reigning Inspirational Bluegrass Music Artist of the Year.  \n \nJerry Salley: Nashville Songwriters Hall of Fame\, Salley is the 2018 & 2019 IBMA (International Bluegrass Music Association) Songwriter of the Year and was named the 2003 SESAC Country Music Songwriter of the Year. Salley has had over 500 different songs recorded and his songs have sold in excess of 18 million records worldwide. \n \nLarry Cordle: Grammy award-winner\, singer-songwriter\, producer\, recording artist\, and Kentucky Music Hall of Fame member. He’s written multiple hits in country\, bluegrass\, and gospel music and may well be the most successful songwriter to have earned equal in all three genres.  \n \nBill Whyte: Grammy award winning artist\, songwriter\, comedian\, Hall of Fame radio announcer\, and more. \n \nMarija Droze: Singer\, Songwriter\, instrumentalist. She met & married artist Billy Droze\, and they recorded multiple albums together\, including the hit song “Raging Rivers”\, that has been on the Bluegrass Charts for more than a year\, topping out at #5.  \n \nJosh Garrett- one of the most popular blues artists on the Gulf Coast\, Garrett’s  “String of Problems”\,  \n \nhit #1 on the Roots Music Louisiana Blues Charts\,  and  #1 two weeks in a row on American Blues Scene “Blues Top Five”. \n \nTina Jackson – 2024 PBSF National Blues Winner\, and popular Los Angeles blues artist. \n \nKiersi Jolie- 2024 PBSF Jim Pasquale Award Horizon Winner\, 16 year old blues phenom singer\, songwriter\, and harmonica player.
URL:https://pensacolabeach.com/pensacola-event/blues-and-bluegrass-beach-bash/
LOCATION:41 Fort Pickens Rd\, 41 Fort Pickens Road\, Pensacola Beach\, FL\, 32561\, United States
ATTACH;FMTTYPE=image/jpeg:https://pensacolabeach.com/wp-content/uploads/2024/10/f7200c6df222b785b5ae25e35d8f8067.jpg
END:VEVENT
END:VCALENDAR