BEGIN:VCALENDAR
VERSION:2.0
PRODID:-//PensacolaBeach.com - ECPv6.15.20//NONSGML v1.0//EN
CALSCALE:GREGORIAN
METHOD:PUBLISH
X-WR-CALNAME:PensacolaBeach.com
X-ORIGINAL-URL:https://pensacolabeach.com
X-WR-CALDESC:Events for PensacolaBeach.com
REFRESH-INTERVAL;VALUE=DURATION:PT1H
X-Robots-Tag:noindex
X-PUBLISHED-TTL:PT1H
BEGIN:VTIMEZONE
TZID:America/Chicago
BEGIN:DAYLIGHT
TZOFFSETFROM:-0600
TZOFFSETTO:-0500
TZNAME:CDT
DTSTART:20230312T080000
END:DAYLIGHT
BEGIN:STANDARD
TZOFFSETFROM:-0500
TZOFFSETTO:-0600
TZNAME:CST
DTSTART:20231105T070000
END:STANDARD
BEGIN:DAYLIGHT
TZOFFSETFROM:-0600
TZOFFSETTO:-0500
TZNAME:CDT
DTSTART:20240310T080000
END:DAYLIGHT
BEGIN:STANDARD
TZOFFSETFROM:-0500
TZOFFSETTO:-0600
TZNAME:CST
DTSTART:20241103T070000
END:STANDARD
BEGIN:DAYLIGHT
TZOFFSETFROM:-0600
TZOFFSETTO:-0500
TZNAME:CDT
DTSTART:20250309T080000
END:DAYLIGHT
BEGIN:STANDARD
TZOFFSETFROM:-0500
TZOFFSETTO:-0600
TZNAME:CST
DTSTART:20251102T070000
END:STANDARD
END:VTIMEZONE
BEGIN:VEVENT
DTSTART;TZID=America/Chicago:20241214T013000
DTEND;TZID=America/Chicago:20241214T030000
DTSTAMP:20260424T060313
CREATED:20241211T225654Z
LAST-MODIFIED:20241211T225654Z
UID:10000168-1734139800-1734145200@pensacolabeach.com
SUMMARY:Mysteries on the Move: Scavenger Hunt in San Francisco
DESCRIPTION:A fun filled murder mystery scavenger hunt throughout San Francisco!\n\n\nDISCOVER SAN FRANCISCO IN A WHOLE NEW WAY: BY SOLVING A MURDER MYSTERY! \nYou will be tasked with solving the murder of silent movie director Rex King\, who was visiting San Francisco while filming on location in 1926. Gather the clues – outdoors and on the move – while visiting historical sites throughout the city! \nUsing your smart phone\, you will be out and about\, while finding out whodunnit. During this game played at your own pace\, you will venture to several historic sites\, gathering clues along the way. This fantastic family friendly game is great fun while checking out the sites on vacation or just getting to know your home town better. The whole family can play – or your whole group of friends – with just one purchase.
URL:https://pensacolabeach.com/pensacola-event/mysteries-on-the-move-scavenger-hunt-in-san-francisco/
LOCATION:952 Candlestick Ct\, 952 Candlestick Court\, Pensacola\, FL\, 32514\, United States
ATTACH;FMTTYPE=image/jpeg:https://pensacolabeach.com/wp-content/uploads/2024/12/5f46d1495c6b2da93826ee6e2549b115.jpg
END:VEVENT
END:VCALENDAR