BEGIN:VCALENDAR
VERSION:2.0
PRODID:-//PensacolaBeach.com - ECPv6.15.20//NONSGML v1.0//EN
CALSCALE:GREGORIAN
METHOD:PUBLISH
X-WR-CALNAME:PensacolaBeach.com
X-ORIGINAL-URL:https://pensacolabeach.com
X-WR-CALDESC:Events for PensacolaBeach.com
REFRESH-INTERVAL;VALUE=DURATION:PT1H
X-Robots-Tag:noindex
X-PUBLISHED-TTL:PT1H
BEGIN:VTIMEZONE
TZID:America/Chicago
BEGIN:DAYLIGHT
TZOFFSETFROM:-0600
TZOFFSETTO:-0500
TZNAME:CDT
DTSTART:20230312T080000
END:DAYLIGHT
BEGIN:STANDARD
TZOFFSETFROM:-0500
TZOFFSETTO:-0600
TZNAME:CST
DTSTART:20231105T070000
END:STANDARD
BEGIN:DAYLIGHT
TZOFFSETFROM:-0600
TZOFFSETTO:-0500
TZNAME:CDT
DTSTART:20240310T080000
END:DAYLIGHT
BEGIN:STANDARD
TZOFFSETFROM:-0500
TZOFFSETTO:-0600
TZNAME:CST
DTSTART:20241103T070000
END:STANDARD
BEGIN:DAYLIGHT
TZOFFSETFROM:-0600
TZOFFSETTO:-0500
TZNAME:CDT
DTSTART:20250309T080000
END:DAYLIGHT
BEGIN:STANDARD
TZOFFSETFROM:-0500
TZOFFSETTO:-0600
TZNAME:CST
DTSTART:20251102T070000
END:STANDARD
END:VTIMEZONE
BEGIN:VEVENT
DTSTART;TZID=America/Chicago:20241102T150000
DTEND;TZID=America/Chicago:20241102T190000
DTSTAMP:20260422T081403
CREATED:20241002T014445Z
LAST-MODIFIED:20241002T014445Z
UID:10000016-1730559600-1730574000@pensacolabeach.com
SUMMARY:Pins for a Purpose
DESCRIPTION:Join Junior League of Pensacola by making a difference in the community on Saturday\, November 2 from 3 to 7 pm at Cordova Lanes!\n\n\nThe Junior League of Pensacola is an organization of women committed to advancing women’s leadership for meaningful community impact through volunteer action\, collaboration\, and training. It’s purpose is exclusively educational and charitable. \nThe Junior League of Pensacola\, Inc. reaches out to women of all races\, religions\, and national origins who demonstrate an interest in and a commitment to voluntarism. \nJoin us at Cordova Lanes to help raise funds for Junior League of Pensacola and all its good work in the community such as our events like Healthy Halloween or our Diaper Bank! \nPins for a Purpose offers exclusive access to the entire Cordova Lanes building\, featuring the karaoke and bar areas! \nJoin as a team or sign up as an individual! All funds support the Junior League of Pensacola and its efforts to give back in the Santa Rosa and Escambia counties.
URL:https://pensacolabeach.com/pensacola-event/pins-for-a-purpose/
LOCATION:Cordova Lanes Inc.\, 2111 Airport Boulevard\, Pensacola\, FL\, 32504\, United States
ATTACH;FMTTYPE=image/jpeg:https://pensacolabeach.com/wp-content/uploads/2024/10/656119b1ebfdb5a3a53233718cab1bc6.jpg
END:VEVENT
END:VCALENDAR