BEGIN:VCALENDAR
VERSION:2.0
PRODID:-//PensacolaBeach.com - ECPv6.15.20//NONSGML v1.0//EN
CALSCALE:GREGORIAN
METHOD:PUBLISH
X-ORIGINAL-URL:https://pensacolabeach.com
X-WR-CALDESC:Events for PensacolaBeach.com
REFRESH-INTERVAL;VALUE=DURATION:PT1H
X-Robots-Tag:noindex
X-PUBLISHED-TTL:PT1H
BEGIN:VTIMEZONE
TZID:UTC
BEGIN:STANDARD
TZOFFSETFROM:+0000
TZOFFSETTO:+0000
TZNAME:UTC
DTSTART:20230101T000000
END:STANDARD
END:VTIMEZONE
BEGIN:VEVENT
DTSTART;TZID=UTC:20241031T200000
DTEND;TZID=UTC:20241031T230000
DTSTAMP:20260421T045408
CREATED:20241022T190123Z
LAST-MODIFIED:20241022T190123Z
UID:10000151-1730404800-1730415600@pensacolabeach.com
SUMMARY:Flora-Bama Halloween Costume Contest
DESCRIPTION:🎃🧙‍♂️ Join the Flora-Bama Halloween Costume Contest! 🧙‍♂️🎃 \nGet ready for a spooktacular night of costumes\, cash prizes\, and Halloween fun at the Flora-Bama Halloween Costume Contest! Don your most creative and elaborate Halloween attire and join us for a hauntingly good time. \n📅 Date: October 31\n🕗 Time: 8:00 PM – 11:00 PM\n📍 Location: Flora-Bama Lounge\, Package and Oyster Bar\, 17401 Perdido Key Dr.\, Pensacola\, Florida 32507-9354 \nHere’s how it works: \n\nDress to Impress: Arrive in your best Halloween costume and get in for FREE!\nCostume Contest: Show off your spooky\, funny\, or fabulous outfit for a chance to win up to $600 in cash prizes!\nFun & Festivities: Enjoy a night of great music\, delicious food\, and Halloween-themed entertainment.\n\nWe love a good excuse to dress up\, so hop on your broomsticks and join us for a night full of frightful fun and festive cheer. Don’t miss your chance to shine and win big at Pensacola’s most thrilling Halloween event! \nFor more details\, visit Flora-Bama.com. \nSee you there in your Halloween best! \n#FloraBama #HalloweenCostumeContest #PensacolaEvents #HalloweenFun #CostumeContest #SpookySeason #CashPrizes
URL:https://pensacolabeach.com/pensacola-event/flora-bama-halloween-costume-contest/
LOCATION:Flora-Bama Lounge & Oyster Bar\, 17401 Perdido Key Dr.\, Pensacola\, Florida
ATTACH;FMTTYPE=image/jpeg:https://pensacolabeach.com/wp-content/uploads/2024/10/Flora-Bama-Halloween-Costume-Contest-lSY0qc.tmp_.jpg
END:VEVENT
END:VCALENDAR