BEGIN:VCALENDAR
VERSION:2.0
PRODID:-//PensacolaBeach.com - ECPv6.15.20//NONSGML v1.0//EN
CALSCALE:GREGORIAN
METHOD:PUBLISH
X-ORIGINAL-URL:https://pensacolabeach.com
X-WR-CALDESC:Events for PensacolaBeach.com
REFRESH-INTERVAL;VALUE=DURATION:PT1H
X-Robots-Tag:noindex
X-PUBLISHED-TTL:PT1H
BEGIN:VTIMEZONE
TZID:America/Chicago
BEGIN:DAYLIGHT
TZOFFSETFROM:-0600
TZOFFSETTO:-0500
TZNAME:CDT
DTSTART:20250309T080000
END:DAYLIGHT
BEGIN:STANDARD
TZOFFSETFROM:-0500
TZOFFSETTO:-0600
TZNAME:CST
DTSTART:20251102T070000
END:STANDARD
BEGIN:DAYLIGHT
TZOFFSETFROM:-0600
TZOFFSETTO:-0500
TZNAME:CDT
DTSTART:20260308T080000
END:DAYLIGHT
BEGIN:STANDARD
TZOFFSETFROM:-0500
TZOFFSETTO:-0600
TZNAME:CST
DTSTART:20261101T070000
END:STANDARD
BEGIN:DAYLIGHT
TZOFFSETFROM:-0600
TZOFFSETTO:-0500
TZNAME:CDT
DTSTART:20270314T080000
END:DAYLIGHT
BEGIN:STANDARD
TZOFFSETFROM:-0500
TZOFFSETTO:-0600
TZNAME:CST
DTSTART:20271107T070000
END:STANDARD
END:VTIMEZONE
BEGIN:VEVENT
DTSTART;TZID=America/Chicago:20260404T193000
DTEND;TZID=America/Chicago:20260404T213000
DTSTAMP:20260420T130339
CREATED:20260316T191925Z
LAST-MODIFIED:20260316T191925Z
UID:10000511-1775331000-1775338200@pensacolabeach.com
SUMMARY:Stand-up At Genie's Coffee First Saturdays Pensacola Comedy Club
DESCRIPTION:Bring friends & prep for laughs – it’s gonna be a riot! Coffee drinks\, delicious food & comedy created from your suggestions! Free parking!
URL:https://pensacolabeach.com/pensacola-event/stand-up-at-genies-coffee-first-saturdays-pensacola-comedy-club/
LOCATION:Genie’s Coffee Shop\, 1922 Creighton Road\, #Suite A\, Pensacola\, FL\, 32504\, United States
ATTACH;FMTTYPE=image/jpeg:https://pensacolabeach.com/wp-content/uploads/2026/03/1f3c7067828b0b1ff34d0e4c7ba9a8a2.jpg
END:VEVENT
END:VCALENDAR