BEGIN:VCALENDAR
VERSION:2.0
PRODID:-//PensacolaBeach.com - ECPv6.15.20//NONSGML v1.0//EN
CALSCALE:GREGORIAN
METHOD:PUBLISH
X-ORIGINAL-URL:https://pensacolabeach.com
X-WR-CALDESC:Events for PensacolaBeach.com
REFRESH-INTERVAL;VALUE=DURATION:PT1H
X-Robots-Tag:noindex
X-PUBLISHED-TTL:PT1H
BEGIN:VTIMEZONE
TZID:America/Chicago
BEGIN:DAYLIGHT
TZOFFSETFROM:-0600
TZOFFSETTO:-0500
TZNAME:CDT
DTSTART:20250309T080000
END:DAYLIGHT
BEGIN:STANDARD
TZOFFSETFROM:-0500
TZOFFSETTO:-0600
TZNAME:CST
DTSTART:20251102T070000
END:STANDARD
BEGIN:DAYLIGHT
TZOFFSETFROM:-0600
TZOFFSETTO:-0500
TZNAME:CDT
DTSTART:20260308T080000
END:DAYLIGHT
BEGIN:STANDARD
TZOFFSETFROM:-0500
TZOFFSETTO:-0600
TZNAME:CST
DTSTART:20261101T070000
END:STANDARD
BEGIN:DAYLIGHT
TZOFFSETFROM:-0600
TZOFFSETTO:-0500
TZNAME:CDT
DTSTART:20270314T080000
END:DAYLIGHT
BEGIN:STANDARD
TZOFFSETFROM:-0500
TZOFFSETTO:-0600
TZNAME:CST
DTSTART:20271107T070000
END:STANDARD
END:VTIMEZONE
BEGIN:VEVENT
DTSTART;TZID=America/Chicago:20260502T193000
DTEND;TZID=America/Chicago:20260502T213000
DTSTAMP:20260420T111715
CREATED:20260316T191928Z
LAST-MODIFIED:20260316T191928Z
UID:10000512-1777750200-1777757400@pensacolabeach.com
SUMMARY:Stand-up At Genie's Coffee First Saturdays Pensacola Comedy Club
DESCRIPTION:Bring friends & prep for laughs – it’s gonna be a riot! Coffee drinks\, delicious food & comedy created from your suggestions! Free parking!
URL:https://pensacolabeach.com/pensacola-event/stand-up-at-genies-coffee-first-saturdays-pensacola-comedy-club-2/
LOCATION:Genie’s Coffee Shop\, 1922 Creighton Road\, #Suite A\, Pensacola\, FL\, 32504\, United States
ATTACH;FMTTYPE=image/jpeg:https://pensacolabeach.com/wp-content/uploads/2026/03/1f3c7067828b0b1ff34d0e4c7ba9a8a2.jpg
END:VEVENT
BEGIN:VEVENT
DTSTART;TZID=America/Chicago:20260606T193000
DTEND;TZID=America/Chicago:20260606T213000
DTSTAMP:20260420T111715
CREATED:20260316T191928Z
LAST-MODIFIED:20260316T191928Z
UID:10000513-1780774200-1780781400@pensacolabeach.com
SUMMARY:Stand-up At Genie's Coffee First Saturdays Pensacola Comedy Club
DESCRIPTION:Bring friends & prep for laughs – it’s gonna be a riot! Coffee drinks\, delicious food & comedy created from your suggestions! Free parking!
URL:https://pensacolabeach.com/pensacola-event/stand-up-at-genies-coffee-first-saturdays-pensacola-comedy-club-3/
LOCATION:Genie’s Coffee Shop\, 1922 Creighton Road\, #Suite A\, Pensacola\, FL\, 32504\, United States
ATTACH;FMTTYPE=image/jpeg:https://pensacolabeach.com/wp-content/uploads/2026/03/1f3c7067828b0b1ff34d0e4c7ba9a8a2.jpg
END:VEVENT
BEGIN:VEVENT
DTSTART;TZID=America/Chicago:20260704T193000
DTEND;TZID=America/Chicago:20260704T213000
DTSTAMP:20260420T111715
CREATED:20260316T191929Z
LAST-MODIFIED:20260316T191929Z
UID:10000514-1783193400-1783200600@pensacolabeach.com
SUMMARY:Stand-up At Genie's Coffee First Saturdays Pensacola Comedy Club
DESCRIPTION:Bring friends & prep for laughs – it’s gonna be a riot! Coffee drinks\, delicious food & comedy created from your suggestions! Free parking!
URL:https://pensacolabeach.com/pensacola-event/stand-up-at-genies-coffee-first-saturdays-pensacola-comedy-club-4/
LOCATION:Genie’s Coffee Shop\, 1922 Creighton Road\, #Suite A\, Pensacola\, FL\, 32504\, United States
ATTACH;FMTTYPE=image/jpeg:https://pensacolabeach.com/wp-content/uploads/2026/03/1f3c7067828b0b1ff34d0e4c7ba9a8a2.jpg
END:VEVENT
BEGIN:VEVENT
DTSTART;TZID=America/Chicago:20260801T193000
DTEND;TZID=America/Chicago:20260801T213000
DTSTAMP:20260420T111715
CREATED:20260316T191929Z
LAST-MODIFIED:20260316T191929Z
UID:10000515-1785612600-1785619800@pensacolabeach.com
SUMMARY:Stand-up At Genie's Coffee First Saturdays Pensacola Comedy Club
DESCRIPTION:Bring friends & prep for laughs – it’s gonna be a riot! Coffee drinks\, delicious food & comedy created from your suggestions! Free parking!
URL:https://pensacolabeach.com/pensacola-event/stand-up-at-genies-coffee-first-saturdays-pensacola-comedy-club-5/
LOCATION:Genie’s Coffee Shop\, 1922 Creighton Road\, #Suite A\, Pensacola\, FL\, 32504\, United States
ATTACH;FMTTYPE=image/jpeg:https://pensacolabeach.com/wp-content/uploads/2026/03/1f3c7067828b0b1ff34d0e4c7ba9a8a2.jpg
END:VEVENT
BEGIN:VEVENT
DTSTART;TZID=America/Chicago:20260905T193000
DTEND;TZID=America/Chicago:20260905T213000
DTSTAMP:20260420T111715
CREATED:20260316T191929Z
LAST-MODIFIED:20260316T191929Z
UID:10000516-1788636600-1788643800@pensacolabeach.com
SUMMARY:Stand-up At Genie's Coffee First Saturdays Pensacola Comedy Club
DESCRIPTION:Bring friends & prep for laughs – it’s gonna be a riot! Coffee drinks\, delicious food & comedy created from your suggestions! Free parking!
URL:https://pensacolabeach.com/pensacola-event/stand-up-at-genies-coffee-first-saturdays-pensacola-comedy-club-6/
LOCATION:Genie’s Coffee Shop\, 1922 Creighton Road\, #Suite A\, Pensacola\, FL\, 32504\, United States
ATTACH;FMTTYPE=image/jpeg:https://pensacolabeach.com/wp-content/uploads/2026/03/1f3c7067828b0b1ff34d0e4c7ba9a8a2.jpg
END:VEVENT
BEGIN:VEVENT
DTSTART;TZID=America/Chicago:20261003T193000
DTEND;TZID=America/Chicago:20261003T213000
DTSTAMP:20260420T111715
CREATED:20260316T191930Z
LAST-MODIFIED:20260316T191930Z
UID:10000517-1791055800-1791063000@pensacolabeach.com
SUMMARY:Stand-up At Genie's Coffee First Saturdays Pensacola Comedy Club
DESCRIPTION:Bring friends & prep for laughs – it’s gonna be a riot! Coffee drinks\, delicious food & comedy created from your suggestions! Free parking!
URL:https://pensacolabeach.com/pensacola-event/stand-up-at-genies-coffee-first-saturdays-pensacola-comedy-club-7/
LOCATION:Genie’s Coffee Shop\, 1922 Creighton Road\, #Suite A\, Pensacola\, FL\, 32504\, United States
ATTACH;FMTTYPE=image/jpeg:https://pensacolabeach.com/wp-content/uploads/2026/03/1f3c7067828b0b1ff34d0e4c7ba9a8a2.jpg
END:VEVENT
BEGIN:VEVENT
DTSTART;TZID=America/Chicago:20261107T193000
DTEND;TZID=America/Chicago:20261107T213000
DTSTAMP:20260420T111715
CREATED:20260316T191930Z
LAST-MODIFIED:20260316T191930Z
UID:10000518-1794079800-1794087000@pensacolabeach.com
SUMMARY:Stand-up At Genie's Coffee First Saturdays Pensacola Comedy Club
DESCRIPTION:Bring friends & prep for laughs – it’s gonna be a riot! Coffee drinks\, delicious food & comedy created from your suggestions! Free parking!
URL:https://pensacolabeach.com/pensacola-event/stand-up-at-genies-coffee-first-saturdays-pensacola-comedy-club-8/
LOCATION:Genie’s Coffee Shop\, 1922 Creighton Road\, #Suite A\, Pensacola\, FL\, 32504\, United States
ATTACH;FMTTYPE=image/jpeg:https://pensacolabeach.com/wp-content/uploads/2026/03/1f3c7067828b0b1ff34d0e4c7ba9a8a2.jpg
END:VEVENT
BEGIN:VEVENT
DTSTART;TZID=America/Chicago:20261205T193000
DTEND;TZID=America/Chicago:20261205T213000
DTSTAMP:20260420T111715
CREATED:20260316T191931Z
LAST-MODIFIED:20260316T191931Z
UID:10000519-1796499000-1796506200@pensacolabeach.com
SUMMARY:Stand-up At Genie's Coffee First Saturdays Pensacola Comedy Club
DESCRIPTION:Bring friends & prep for laughs – it’s gonna be a riot! Coffee drinks\, delicious food & comedy created from your suggestions! Free parking!
URL:https://pensacolabeach.com/pensacola-event/stand-up-at-genies-coffee-first-saturdays-pensacola-comedy-club-9/
LOCATION:Genie’s Coffee Shop\, 1922 Creighton Road\, #Suite A\, Pensacola\, FL\, 32504\, United States
ATTACH;FMTTYPE=image/jpeg:https://pensacolabeach.com/wp-content/uploads/2026/03/1f3c7067828b0b1ff34d0e4c7ba9a8a2.jpg
END:VEVENT
END:VCALENDAR