BEGIN:VCALENDAR
VERSION:2.0
PRODID:-//PensacolaBeach.com - ECPv6.15.20//NONSGML v1.0//EN
CALSCALE:GREGORIAN
METHOD:PUBLISH
X-WR-CALNAME:PensacolaBeach.com
X-ORIGINAL-URL:https://pensacolabeach.com
X-WR-CALDESC:Events for PensacolaBeach.com
REFRESH-INTERVAL;VALUE=DURATION:PT1H
X-Robots-Tag:noindex
X-PUBLISHED-TTL:PT1H
BEGIN:VTIMEZONE
TZID:-05:00
END:VTIMEZONE
BEGIN:VEVENT
DTSTART;TZID=-05:00:20241012T110000
DTEND;TZID=-05:00:20241012T140000
DTSTAMP:20260421T202126
CREATED:20241010T203043Z
LAST-MODIFIED:20241010T203043Z
UID:10000138-1728730800-1728741600@pensacolabeach.com
SUMMARY:Kayak to Flounders for lunch and bar hop
DESCRIPTION:meet at the pavilion (closest to Key Sailing) along access road between boardwalk and toll booth / Grand Marlin. Launch from the beach. We will kayak to Flounders. Bring rope to tie up your kayak! ***** Kayaking is a strenuous activity. make sure you are capable. *****\nAnyone wanting to meet us for lunch only shoul arrive at Flounders about 11:45. Please message me or add to comments if only coming for lunch and not kayaking.\nAfter lunch\, the group can decide next stop or you can return to pavilion & call it a day.
URL:https://pensacolabeach.com/pensacola-event/kayak-to-flounders-for-lunch-and-bar-hop/
LOCATION:Quietwater Beach\, Pavilion next to Key Sailing\, Pensacola Beach\, FL\, 32561\, United States
ATTACH;FMTTYPE=image/jpeg:https://pensacolabeach.com/wp-content/uploads/2024/10/1024x576-9fAoA6.tmp_.jpg
GEO:30.33591;-87.14331
X-APPLE-STRUCTURED-LOCATION;VALUE=URI;X-ADDRESS=Quietwater Beach Pavilion next to Key Sailing Pensacola Beach FL 32561 United States;X-APPLE-RADIUS=500;X-TITLE=Pavilion next to Key Sailing:geo:-87.14331,30.33591
END:VEVENT
END:VCALENDAR