BEGIN:VCALENDAR
VERSION:2.0
PRODID:-//PensacolaBeach.com - ECPv6.15.20//NONSGML v1.0//EN
CALSCALE:GREGORIAN
METHOD:PUBLISH
X-WR-CALNAME:PensacolaBeach.com
X-ORIGINAL-URL:https://pensacolabeach.com
X-WR-CALDESC:Events for PensacolaBeach.com
REFRESH-INTERVAL;VALUE=DURATION:PT1H
X-Robots-Tag:noindex
X-PUBLISHED-TTL:PT1H
BEGIN:VTIMEZONE
TZID:America/Chicago
BEGIN:DAYLIGHT
TZOFFSETFROM:-0600
TZOFFSETTO:-0500
TZNAME:CDT
DTSTART:20240310T080000
END:DAYLIGHT
BEGIN:STANDARD
TZOFFSETFROM:-0500
TZOFFSETTO:-0600
TZNAME:CST
DTSTART:20241103T070000
END:STANDARD
BEGIN:DAYLIGHT
TZOFFSETFROM:-0600
TZOFFSETTO:-0500
TZNAME:CDT
DTSTART:20250309T080000
END:DAYLIGHT
BEGIN:STANDARD
TZOFFSETFROM:-0500
TZOFFSETTO:-0600
TZNAME:CST
DTSTART:20251102T070000
END:STANDARD
BEGIN:DAYLIGHT
TZOFFSETFROM:-0600
TZOFFSETTO:-0500
TZNAME:CDT
DTSTART:20260308T080000
END:DAYLIGHT
BEGIN:STANDARD
TZOFFSETFROM:-0500
TZOFFSETTO:-0600
TZNAME:CST
DTSTART:20261101T070000
END:STANDARD
END:VTIMEZONE
BEGIN:VEVENT
DTSTART;TZID=America/Chicago:20250503T150000
DTEND;TZID=America/Chicago:20250503T200000
DTSTAMP:20260423T073503
CREATED:20250501T002754Z
LAST-MODIFIED:20250501T002754Z
UID:10000325-1746284400-1746302400@pensacolabeach.com
SUMMARY:Kentucky Derby Party
DESCRIPTION:Get ready to experience the excitement and glamour of the Kentucky Derby at our ultimate party – it’s gonna be a blast!\n\n\nWelcome to the Kentucky Derby Party at Scenic Hills Country Club! Get ready for a day filled with excitement\, horse racing\, and southern charm. Join us on Sat May 03 2025 at 3:00 PM for a fun-filled event celebrating the famous Kentucky Derby. \nPut on your best derby hat and seersucker suit as we watch the race live on big screens. Enjoy mint juleps\, southern cuisine\, and live music as we celebrate the most exciting two minutes in sports. \nLive music by Unfortunate Sons! \nCash bar\, buffet\, wagering\, live and silent auctions. Portion of proceeds benefiting The Birthday Party of Pensacola.  \nContest for Best Hat and Best Dressed couple! \nCome join us at Scenic Hills Country Club for a day of horse racing\, fun\, and festivities. Don’t miss out on this unforgettable event!
URL:https://pensacolabeach.com/pensacola-event/kentucky-derby-party/
LOCATION:Scenic Hills Country Club – Golf • Restaurant • Events\, 8891 Burning Tree Road\, Pensacola\, FL\, 32514\, United States
ATTACH;FMTTYPE=image/jpeg:https://pensacolabeach.com/wp-content/uploads/2025/04/b977e203447df0372d7d711a00cc1767.jpg
END:VEVENT
END:VCALENDAR