BEGIN:VCALENDAR
VERSION:2.0
PRODID:-//PensacolaBeach.com - ECPv6.15.20//NONSGML v1.0//EN
CALSCALE:GREGORIAN
METHOD:PUBLISH
X-ORIGINAL-URL:https://pensacolabeach.com
X-WR-CALDESC:Events for PensacolaBeach.com
REFRESH-INTERVAL;VALUE=DURATION:PT1H
X-Robots-Tag:noindex
X-PUBLISHED-TTL:PT1H
BEGIN:VTIMEZONE
TZID:America/Chicago
BEGIN:DAYLIGHT
TZOFFSETFROM:-0600
TZOFFSETTO:-0500
TZNAME:CDT
DTSTART:20230312T080000
END:DAYLIGHT
BEGIN:STANDARD
TZOFFSETFROM:-0500
TZOFFSETTO:-0600
TZNAME:CST
DTSTART:20231105T070000
END:STANDARD
BEGIN:DAYLIGHT
TZOFFSETFROM:-0600
TZOFFSETTO:-0500
TZNAME:CDT
DTSTART:20240310T080000
END:DAYLIGHT
BEGIN:STANDARD
TZOFFSETFROM:-0500
TZOFFSETTO:-0600
TZNAME:CST
DTSTART:20241103T070000
END:STANDARD
BEGIN:DAYLIGHT
TZOFFSETFROM:-0600
TZOFFSETTO:-0500
TZNAME:CDT
DTSTART:20250309T080000
END:DAYLIGHT
BEGIN:STANDARD
TZOFFSETFROM:-0500
TZOFFSETTO:-0600
TZNAME:CST
DTSTART:20251102T070000
END:STANDARD
END:VTIMEZONE
BEGIN:VEVENT
DTSTART;TZID=America/Chicago:20241212T183000
DTEND;TZID=America/Chicago:20241212T210000
DTSTAMP:20260422T045955
CREATED:20241211T230147Z
LAST-MODIFIED:20241211T230147Z
UID:10000173-1734028200-1734037200@pensacolabeach.com
SUMMARY:Ol' Blue Eyes Birthday Bash Presented by Josh Sirten
DESCRIPTION:Josh Sirten’s Frank Sinatra Tribute Show is Returning to The Cellar to Celebrate Frank’s 109th Birthday!\n\n\nWe are always excited when Josh Sirten returns to The Cellar with his Frank Sinatra Tribute Show\, and this show is going to be extra special because it’s Sinatra’s 109th Birthday! Join us for what is guaranteed to be a night of timeless music\, craft cocktails\, and fun as we celebrate one of the greatest muscians to ever grace the stage!  \nTickets are $15 each \n21+ over only \nDoors Open At 5:30 \nLarge groups purchasing tickets separately\, wishing to be seated together- please message The Cellar through Facebook or Instagram or contact Landshark’s Pizza
URL:https://pensacolabeach.com/pensacola-event/ol-blue-eyes-birthday-bash-presented-by-josh-sirten/
LOCATION:The Cellar – Speakeasy\, 1128 John Sims Parkway\, Niceville\, FL\, 32578\, United States
ATTACH;FMTTYPE=image/jpeg:https://pensacolabeach.com/wp-content/uploads/2024/12/99b5097ac80b33252d0d3a6223a90eb7.jpg
END:VEVENT
END:VCALENDAR